BEGIN:VCALENDAR
CALSCALE:GREGORIAN
METHOD:PUBLISH
PRODID:-//github.com/ical-org/ical.net//NONSGML ical.net 4.0//EN
VERSION:2.0
X-WR-TIMEZONE:US/Eastern
BEGIN:VEVENT
CATEGORIES:Gadsby's Tavern
CATEGORIES:Museums
DESCRIPTION:To verify info please see https://apps.alexandriava.gov/Calend
 ar/Detail.aspx?si=58704\n\nCover includes tavern games and a themed prese
 ntation with the crowd-favorite jeopardy game. This month's presentation 
 + jeopardy theme: Remember the ladies! Women's History month might be ove
 r\, but Women's History never stops! Cash bar includes traditional rum pu
 nch--a popular tavern drink.Event takes place in the second floor ballroo
 m. Please note\, due to its historic nature\, the building does not have 
 an elevator.\n\nLocation: Gadsby's Tavern Museum\, 134 N. Royal St.\nFees
 : $10 per person\nAudience: Anyone may attend\nTags: Gadsby's Tavern\, Mu
 seums\n\nWeb resources:\n\nPurchase Tickets Online here\nhttps://shop.ale
 xandriava.gov/Events.aspx\n
DTEND:20250405T010000Z
DTSTAMP:20250207T132255Z
DTSTART:20250404T230000Z
GEO:38.805577;-77.043493
LOCATION:Gadsby's Tavern Museum\, 134 N. Royal St.
SEQUENCE:5
STATUS:CONFIRMED
SUMMARY:Tavern Games Night: Remember the Ladies!
TRANSP:OPAQUE
UID:d1943adb-6c26-4a8e-ae10-0cf79983bb7b
URL:https://shop.alexandriava.gov/Events.aspx
X-ALT-DESC;FMTTYPE=text/html:To verify info please see <a href="https://ap
 ps.alexandriava.gov/Calendar/Detail.aspx?si=58704">https://apps.alexandri
 ava.gov/Calendar/Detail.aspx?si=58704</a><br />\n<br />Cover includes tav
 ern games and a themed presentation with the crowd-favorite jeopardy game
 . This month&#39\;s presentation + jeopardy theme: Remember the ladies! W
 omen&#39\;s History month might be over\, but Women&#39\;s History never 
 stops! Cash bar includes traditional rum punch--a popular tavern drink.Ev
 ent takes place in the second floor ballroom. Please note\, due to its hi
 storic nature\, the building does not have an elevator.\n<br />\n<br />Lo
 cation: Gadsby&#39\;s Tavern Museum\, 134 N. Royal St.\n<br />Fees: $10 p
 er person\n<br />Audience: Anyone may attend\n<br />Tags: Gadsby&#39\;s T
 avern\, Museums<br>\n<a href="https://shop.alexandriava.gov/Events.aspx">
 Purchase Tickets Online here</a><br>\n
X-COA-DTSTAMP:20250207T132255Z
END:VEVENT
END:VCALENDAR
