BEGIN:VCALENDAR
CALSCALE:GREGORIAN
METHOD:PUBLISH
PRODID:-//github.com/ical-org/ical.net//NONSGML ical.net 4.0//EN
VERSION:2.0
X-WR-TIMEZONE:US/Eastern
BEGIN:VEVENT
CATEGORIES:Community Outreach
CATEGORIES:Exercise
CATEGORIES:Food
CATEGORIES:Parents
CATEGORIES:Recreation
CATEGORIES:Recreation Centers
CATEGORIES:Schools
CATEGORIES:Teens
CATEGORIES:Youth
DESCRIPTION:To verify info please see https://apps.alexandriava.gov/Calend
 ar/Detail.aspx?si=58693\n\nHey teens\, we see you! It's time to celebrate
  YOU with a day packed with fun\, friends + freebies!\n\nIncludes:\n-Marc
 h Madness Game Day\n-Group discussion\n-Raffles + prizes\n-Tik Tok Dance 
 Challenge\n-Table + video games + tournaments\n-Sports picture wall\n-Mus
 ic + food\n\nLocation: Leonard "Chick" Armstrong Rec Center\, 25 W. Reed 
 Ave.\nContact Person: Lucresha Murphy-Tate\nContact Phone: 703.746.5489\n
 Contact Email: lucresha.murphytate@alexandriava.gov\nAudience: Anyone may
  attend\nTags: Community Outreach\, Exercise\, Food\, Parents\, Recreatio
 n\, Recreation Centers\, Schools\, Teens\, Youth\n\nWeb resources:\n\nRPC
 A Website\nhttps://www.alexandriava.gov/Recreation\nFind out more about t
 he Department of Recreation\, Parks & Cultural Activities (RPCA).\n\nRPCA
  Social Media\nhttps://www.alexandriava.gov/Recreation#ConnectwithUs\nFol
 low us on Instagram\, Facebook\, & Twitter!\n
DTEND:20250321T220000Z
DTSTAMP:20250206T152916Z
DTSTART:20250321T200000Z
LOCATION:Leonard "Chick" Armstrong Rec Center\, 25 W. Reed Ave.
SEQUENCE:6
STATUS:CONFIRMED
SUMMARY:Teen Appreciation Day: CKRC
TRANSP:TRANSPARENT
UID:a66d9703-0aff-44f5-a854-d301a826e7b7
URL:https://www.alexandriava.gov/Recreation
X-ALT-DESC;FMTTYPE=text/html:To verify info please see <a href="https://ap
 ps.alexandriava.gov/Calendar/Detail.aspx?si=58693">https://apps.alexandri
 ava.gov/Calendar/Detail.aspx?si=58693</a><br />\n<br />Hey teens\, we see
  you! It&#39\;s time to celebrate YOU with a day packed with fun\, friend
 s + freebies!\n<br />\n<br />Includes:\n<br />-March Madness Game Day\n<b
 r />-Group discussion\n<br />-Raffles + prizes\n<br />-Tik Tok Dance Chal
 lenge\n<br />-Table + video games + tournaments\n<br />-Sports picture wa
 ll\n<br />-Music + food\n<br />\n<br />Location: Leonard &quot\;Chick&quo
 t\; Armstrong Rec Center\, 25 W. Reed Ave.\n<br />Contact Person: Lucresh
 a Murphy-Tate\n<br />Contact Phone: 703.746.5489\n<br />Contact Email: lu
 cresha.murphytate@alexandriava.gov\n<br />Audience: Anyone may attend\n<b
 r />Tags: Community Outreach\, Exercise\, Food\, Parents\, Recreation\, R
 ecreation Centers\, Schools\, Teens\, Youth<br>\n<a href="https://www.ale
 xandriava.gov/Recreation">RPCA Website</a><br>\nFind out more about the D
 epartment of Recreation\, Parks &amp\; Cultural Activities (RPCA).<br>\n<
 a href="https://www.alexandriava.gov/Recreation#ConnectwithUs">RPCA Socia
 l Media</a><br>\nFollow us on Instagram\, Facebook\, &amp\; Twitter!<br>\
 n
X-COA-DTSTAMP:20250206T152916Z
END:VEVENT
END:VCALENDAR
