BEGIN:VCALENDAR
CALSCALE:GREGORIAN
METHOD:PUBLISH
PRODID:-//github.com/ical-org/ical.net//NONSGML ical.net 4.0//EN
VERSION:2.0
X-WR-TIMEZONE:US/Eastern
BEGIN:VEVENT
CATEGORIES:Community Outreach
CATEGORIES:Exercise
CATEGORIES:Food
CATEGORIES:Parents
CATEGORIES:Recreation
CATEGORIES:Recreation Centers
CATEGORIES:Schools
CATEGORIES:Teens
CATEGORIES:Youth
DESCRIPTION:To verify info please see https://apps.alexandriava.gov/Calend
 ar/Detail.aspx?si=58689\n\nHey teens\, we see you! It's time to celebrate
  YOU with a day packed with fun\, friends + freebies!\n\nIncludes:\n-Glow
  tag\n-Saran wrap ball game\n-Raffle\n-Karaoke Contest\n-Prize\n-Food & d
 rinks\n\nLocation: Charles Houston Recreation Center\, 901 Wythe St.\nCon
 tact Person: Lucresha Murphy-Tate\nContact Phone: 703.746.5489\nContact E
 mail: lucresha.murphytate@alexandriava.gov\nAudience: Anyone may attend\n
 Tags: Community Outreach\, Exercise\, Food\, Parents\, Recreation\, Recre
 ation Centers\, Schools\, Teens\, Youth\n\nWeb resources:\n\nRPCA Website
 \nhttps://www.alexandriava.gov/Recreation\nFind out more about the Depart
 ment of Recreation\, Parks & Cultural Activities (RPCA).\n\nRPCA Social M
 edia\nhttps://www.alexandriava.gov/Recreation#ConnectwithUs\nFollow us on
  Instagram\, Facebook\, & Twitter!\n
DTEND:20250322T003000Z
DTSTAMP:20250206T152959Z
DTSTART:20250321T223000Z
GEO:38.812326;-77.048213
LOCATION:Charles Houston Recreation Center\, 901 Wythe St.
SEQUENCE:6
STATUS:CONFIRMED
SUMMARY:Teen Appreciation Day: CHRC
TRANSP:TRANSPARENT
UID:be5bf130-57ae-4475-8af6-cc83dcc27176
URL:https://www.alexandriava.gov/Recreation
X-ALT-DESC;FMTTYPE=text/html:To verify info please see <a href="https://ap
 ps.alexandriava.gov/Calendar/Detail.aspx?si=58689">https://apps.alexandri
 ava.gov/Calendar/Detail.aspx?si=58689</a><br />\n<br />Hey teens\, we see
  you! It&#39\;s time to celebrate YOU with a day packed with fun\, friend
 s + freebies!\n<br />\n<br />Includes:\n<br />-Glow tag\n<br />-Saran wra
 p ball game\n<br />-Raffle\n<br />-Karaoke Contest\n<br />-Prize\n<br />-
 Food &amp\; drinks\n<br />\n<br />Location: Charles Houston Recreation Ce
 nter\, 901 Wythe St.\n<br />Contact Person: Lucresha Murphy-Tate\n<br />C
 ontact Phone: 703.746.5489\n<br />Contact Email: lucresha.murphytate@alex
 andriava.gov\n<br />Audience: Anyone may attend\n<br />Tags: Community Ou
 treach\, Exercise\, Food\, Parents\, Recreation\, Recreation Centers\, Sc
 hools\, Teens\, Youth<br>\n<a href="https://www.alexandriava.gov/Recreati
 on">RPCA Website</a><br>\nFind out more about the Department of Recreatio
 n\, Parks &amp\; Cultural Activities (RPCA).<br>\n<a href="https://www.al
 exandriava.gov/Recreation#ConnectwithUs">RPCA Social Media</a><br>\nFollo
 w us on Instagram\, Facebook\, &amp\; Twitter!<br>\n
X-COA-DTSTAMP:20250206T152959Z
END:VEVENT
END:VCALENDAR
