BEGIN:VCALENDAR
CALSCALE:GREGORIAN
METHOD:PUBLISH
PRODID:-//github.com/ical-org/ical.net//NONSGML ical.net 4.0//EN
VERSION:2.0
X-WR-TIMEZONE:US/Eastern
BEGIN:VEVENT
CATEGORIES:Boards & Commissions
CATEGORIES:Independent Community Policing Review Board
DESCRIPTION:To verify info please see https://apps.alexandriava.gov/Calend
 ar/Detail.aspx?si=58680\n\nSocial Justice presents a Listening Session on
  the Community Policing Review Board in Alexandria\, VA. This event is be
 ing held at the Alfred Street Baptist Church located at 301 S Alfred St\,
  Alexandria\, VA 22314.\n\nLocation: Alfred Street Baptist Church\nContac
 t Person: Darrlynn Franklin\nContact Email: policeoversight@alexandriava.
 gov\nFees: Free\nAudience: Anyone may attend\nTags: Boards & Commissions\
 , Independent Community Policing Review Board\n\nWeb resources:\n\nhttps:
 //www.alexandriava.gov/public-safety/alexandria-community-policing-review
 -board\n
DTEND:20250405T190000Z
DTSTAMP:20250403T141352Z
DTSTART:20250405T170000Z
LOCATION:Alfred Street Baptist Church
SEQUENCE:7
STATUS:CONFIRMED
SUMMARY:Community Listening Session with ICRPB Members
TRANSP:OPAQUE
UID:86e7c205-afc8-4aeb-9a8b-81aa1d420f14
URL:https://www.alexandriava.gov/public-safety/alexandria-community-polici
 ng-review-board
X-ALT-DESC;FMTTYPE=text/html:To verify info please see <a href="https://ap
 ps.alexandriava.gov/Calendar/Detail.aspx?si=58680">https://apps.alexandri
 ava.gov/Calendar/Detail.aspx?si=58680</a><br />\n<br />Social Justice pre
 sents a Listening Session on the Community Policing Review Board in Alexa
 ndria\, VA. This event is being held at the Alfred Street Baptist Church 
 located at 301 S Alfred St\, Alexandria\, VA 22314.\n<br />\n<br />Locati
 on: Alfred Street Baptist Church\n<br />Contact Person: Darrlynn Franklin
 \n<br />Contact Email: policeoversight@alexandriava.gov\n<br />Fees: Free
 \n<br />Audience: Anyone may attend\n<br />Tags: Boards &amp\; Commission
 s\, Independent Community Policing Review Board<br>\n<a href="https://www
 .alexandriava.gov/public-safety/alexandria-community-policing-review-boar
 d">https://www.alexandriava.gov/public-safety/alexandria-community-polici
 ng-review-board</a><br>\n
X-COA-DTSTAMP:20250403T141352Z
END:VEVENT
END:VCALENDAR
