BEGIN:VCALENDAR
CALSCALE:GREGORIAN
METHOD:PUBLISH
PRODID:-//github.com/ical-org/ical.net//NONSGML ical.net 4.0//EN
VERSION:2.0
X-WR-TIMEZONE:US/Eastern
BEGIN:VEVENT
CATEGORIES:DCHS
DESCRIPTION:To verify info please see https://apps.alexandriava.gov/Calend
 ar/Detail.aspx?si=58643\n\nThe City of Alexandria is offering free tax re
 turn preparation to eligible residents on Wednesdays\, from 6-8 p.m.\, an
 d Saturdays\, from 9 a.m.-12 p.m.\, starting Saturday\, February 1 throug
 h Saturday\, April 19. Expert volunteers will help taxpayers ensure all a
 pplicable credits and deductions are applied\, including tax credits. To 
 schedule an appointment and for more information\, call 202-830-1480 (Eng
 lish) or 202-869-2999 (Spanish). Limited walk-in slots are available.\n\n
 Location: 4850 Mark Center Drive\, 4850 Mark Center Drive\nAudience: Anyo
 ne may attend\nTags: DCHS\n\nWeb resources:\n\nhttps://www.alexandriava.g
 ov/economic-support/free-tax-preparation\n
DTEND:20250419T160000Z
DTSTAMP:20250129T162119Z
DTSTART:20250419T130000Z
LOCATION:4850 Mark Center Drive\, 4850 Mark Center Drive
SEQUENCE:5
STATUS:CONFIRMED
SUMMARY:Free Income Tax Preparation Assistance
TRANSP:OPAQUE
UID:9e00c1f5-1ae3-4686-941f-78b1045de1fa
URL:https://www.alexandriava.gov/economic-support/free-tax-preparation
X-ALT-DESC;FMTTYPE=text/html:To verify info please see <a href="https://ap
 ps.alexandriava.gov/Calendar/Detail.aspx?si=58643">https://apps.alexandri
 ava.gov/Calendar/Detail.aspx?si=58643</a><br />\n<br />The City of Alexan
 dria is offering free tax return preparation to eligible residents on Wed
 nesdays\, from 6?8 p.m.\, and Saturdays\, from 9 a.m.?12 p.m.\, starting 
 Saturday\, February 1 through Saturday\, April 19. Expert volunteers will
  help taxpayers ensure all applicable credits and deductions are applied\
 , including tax credits. To schedule an appointment and for more informat
 ion\, call 202-830-1480 (English) or 202-869-2999 (Spanish). Limited walk
 -in slots are available.\n<br />\n<br />Location: 4850 Mark Center Drive\
 , 4850 Mark Center Drive\n<br />Audience: Anyone may attend\n<br />Tags: 
 DCHS<br>\n<a href="https://www.alexandriava.gov/economic-support/free-tax
 -preparation">https://www.alexandriava.gov/economic-support/free-tax-prep
 aration</a><br>\n
X-COA-DTSTAMP:20250129T162119Z
END:VEVENT
END:VCALENDAR
