BEGIN:VCALENDAR
CALSCALE:GREGORIAN
METHOD:PUBLISH
PRODID:-//github.com/ical-org/ical.net//NONSGML ical.net 4.0//EN
VERSION:2.0
X-WR-TIMEZONE:US/Eastern
BEGIN:VEVENT
CATEGORIES:Lyceum
CATEGORIES:Museums
DESCRIPTION:To verify info please see https://apps.alexandriava.gov/Calend
 ar/Detail.aspx?si=58612\n\nExplore the history of love and friendship in 
 Alexandria! Drop in for stories of good and bad relationships\, learn abo
 ut love in the animal kingdom with our friends from the Buddy Ford Nature
  Center\, sip a specialty cocktail\, and maybe even meet your match! Incl
 udes chocolate demonstrations\, special make+takes\, plus a pop-up shop w
 ith Friends to Lovers Bookshop. Bring your SO\, your BFF\, or just yourse
 lf!\nPlease note: You do not need to print off tickets. Your name will be
  on the registration list for the event.\n\nLocation: Lyceum\nFees: $25\n
 Audience: Anyone may attend\nTags: Lyceum\, Museums\n\nWeb resources:\n\n
 Purchase tickets online \nhttps://shop.alexandriava.gov/Events.aspx\n
DTEND:20250215T020000Z
DTSTAMP:20250122T210018Z
DTSTART:20250214T230000Z
LOCATION:Lyceum
SEQUENCE:6
STATUS:CONFIRMED
SUMMARY:Romance\, Bromance\, & BFFs
TRANSP:OPAQUE
UID:a9d7cf81-9b94-4b37-806f-cdfc3d9ac925
URL:https://shop.alexandriava.gov/Events.aspx
X-ALT-DESC;FMTTYPE=text/html:To verify info please see <a href="https://ap
 ps.alexandriava.gov/Calendar/Detail.aspx?si=58612">https://apps.alexandri
 ava.gov/Calendar/Detail.aspx?si=58612</a><br />\n<br />Explore the histor
 y of love and friendship in Alexandria! Drop in for stories of good and b
 ad relationships\, learn about love in the animal kingdom with our friend
 s from the Buddy Ford Nature Center\, sip a specialty cocktail\, and mayb
 e even meet your match! Includes chocolate demonstrations\, special make+
 takes\, plus a pop-up shop with Friends to Lovers Bookshop. Bring your SO
 \, your BFF\, or just yourself!\n<br />Please note: You do not need to pr
 int off tickets. Your name will be on the registration list for the event
 .\n<br />\n<br />Location: Lyceum\n<br />Fees: $25\n<br />Audience: Anyon
 e may attend\n<br />Tags: Lyceum\, Museums<br>\n<a href="https://shop.ale
 xandriava.gov/Events.aspx">Purchase tickets online </a><br>\n
X-COA-DTSTAMP:20250122T210018Z
END:VEVENT
END:VCALENDAR
