BEGIN:VCALENDAR
CALSCALE:GREGORIAN
METHOD:PUBLISH
PRODID:-//github.com/ical-org/ical.net//NONSGML ical.net 4.0//EN
VERSION:2.0
X-WR-TIMEZONE:US/Eastern
BEGIN:VEVENT
CATEGORIES:Affordable Housing
CATEGORIES:Alexandria Redevelopment and Housing Authority
CATEGORIES:Boards & Commissions
DESCRIPTION:To verify info please see https://apps.alexandriava.gov/Calend
 ar/Detail.aspx?si=58602\n\nMonthly meeting of the ARHA Redevelopment Work
  Group\n\nLocation: City Hall\, Council Work Room\, 301 King St.\nContact
  Person: Kim Cadena\nContact Phone: 703.746.4990\nContact Email: kimberly
 .cadena@alexandriava.gov\nAudience: Anyone may attend\nTags: Affordable H
 ousing\, Alexandria Redevelopment and Housing Authority\, Boards & Commis
 sions
DTEND:20250417T230000Z
DTSTAMP:20250121T182435Z
DTSTART:20250417T213000Z
GEO:38.805416;-77.043305
LOCATION:City Hall\, Council Work Room\, 301 King St.
SEQUENCE:5
STATUS:CONFIRMED
SUMMARY:ARHA Redevelopment Work Group
TRANSP:OPAQUE
UID:3a7bd902-737b-477f-91f0-b02ecc42738a
X-ALT-DESC;FMTTYPE=text/html:To verify info please see <a href="https://ap
 ps.alexandriava.gov/Calendar/Detail.aspx?si=58602">https://apps.alexandri
 ava.gov/Calendar/Detail.aspx?si=58602</a><br />\n<br />Monthly meeting of
  the ARHA Redevelopment Work Group\n<br />\n<br />Location: City Hall\, C
 ouncil Work Room\, 301 King St.\n<br />Contact Person: Kim Cadena\n<br />
 Contact Phone: 703.746.4990\n<br />Contact Email: kimberly.cadena@alexand
 riava.gov\n<br />Audience: Anyone may attend\n<br />Tags: Affordable Hous
 ing\, Alexandria Redevelopment and Housing Authority\, Boards &amp\; Comm
 issions
X-COA-DTSTAMP:20250121T182435Z
END:VEVENT
END:VCALENDAR
