BEGIN:VCALENDAR
CALSCALE:GREGORIAN
METHOD:PUBLISH
PRODID:-//github.com/ical-org/ical.net//NONSGML ical.net 4.0//EN
VERSION:2.0
X-WR-TIMEZONE:US/Eastern
BEGIN:VEVENT
CATEGORIES:Apothecary Museum
CATEGORIES:Museums
DESCRIPTION:To verify info please see https://apps.alexandriava.gov/Calend
 ar/Detail.aspx?si=58587\n\nSpecialty Tour: Midwifery\n\nMidwives did more
  than deliver babies! Explore the role\, knowledge\, and challenges of Mi
 dwives through the lens of the Stabler-Leadbeater Apothecary Museum and i
 ts collection of historic medicines and archives. Content note: this tour
  will cover the complex history around contraception\, abortion\, and mis
 carriage\; recommended for ages 18 and older. Guests should arrive betwee
 n 6:15 and 6:30\, tour begins promptly at 6:30 p.m. and late guests will 
 not be able to be admitted. Please note tour includes ascending and desce
 nding stairs.\nPlease do not bring printed tickets\; your name will be on
  the guest list.\n\nLocation: Stabler-Leadbeater Apothecary Museum\, 105-
 107 S. Fairfax St.\nFees: $15\, $12 Historic Alexandria Members\nAudience
 : Anyone may attend\nTags: Apothecary Museum\, Museums\n\nWeb resources:\
 n\nPurchase Tickets Online\nhttps://shop.alexandriava.gov/Events.aspx\n
DTEND:20250322T233000Z
DTSTAMP:20250311T162536Z
DTSTART:20250322T223000Z
GEO:38.804291;-77.042693
LOCATION:Stabler-Leadbeater Apothecary Museum\, 105-107 S. Fairfax St.
SEQUENCE:6
STATUS:CONFIRMED
SUMMARY:Specialty Tour: Midwifery
TRANSP:OPAQUE
UID:5c300bd2-82c1-4910-863a-bf1f48a0c8e9
URL:https://shop.alexandriava.gov/Events.aspx
X-ALT-DESC;FMTTYPE=text/html:To verify info please see <a href="https://ap
 ps.alexandriava.gov/Calendar/Detail.aspx?si=58587">https://apps.alexandri
 ava.gov/Calendar/Detail.aspx?si=58587</a><br />\n<br />Specialty Tour: Mi
 dwifery\n<br />\n<br />Midwives did more than deliver babies! Explore the
  role\, knowledge\, and challenges of Midwives through the lens of the St
 abler-Leadbeater Apothecary Museum and its collection of historic medicin
 es and archives. Content note: this tour will cover the complex history a
 round contraception\, abortion\, and miscarriage\; recommended for ages 1
 8 and older. Guests should arrive between 6:15 and 6:30\, tour begins pro
 mptly at 6:30 p.m. and late guests will not be able to be admitted. Pleas
 e note tour includes ascending and descending stairs.\n<br />Please do no
 t bring printed tickets\; your name will be on the guest list.\n<br />\n<
 br />Location: Stabler-Leadbeater Apothecary Museum\, 105-107 S. Fairfax 
 St.\n<br />Fees: $15\, $12 Historic Alexandria Members\n<br />Audience: A
 nyone may attend\n<br />Tags: Apothecary Museum\, Museums<br>\n<a href="h
 ttps://shop.alexandriava.gov/Events.aspx">Purchase Tickets Online</a><br>
 \n
X-COA-DTSTAMP:20250311T162536Z
END:VEVENT
END:VCALENDAR
