BEGIN:VCALENDAR
CALSCALE:GREGORIAN
METHOD:PUBLISH
PRODID:-//github.com/ical-org/ical.net//NONSGML ical.net 4.0//EN
VERSION:2.0
X-WR-TIMEZONE:US/Eastern
BEGIN:VEVENT
CATEGORIES:Adult
CATEGORIES:Aquatics
CATEGORIES:Family
CATEGORIES:Parents
CATEGORIES:Pools
CATEGORIES:Recreation
CATEGORIES:Recreation Centers
CATEGORIES:Teens
CATEGORIES:Torpedo Factory Art Center
CATEGORIES:Youth
DESCRIPTION:To verify info please see https://apps.alexandriava.gov/Calend
 ar/Detail.aspx?si=58452\n\nMonday\, October 13 - Indigenous Peoples' Day\
 n\nCharles Houston & Patrick Henry: 9 a.m.-3 p.m.\nAll Other Facilities: 
 Closed\n\nPlease visit the links below for more information.\n\nLocation:
   No Location Specified\nAudience: Anyone may attend\nTags: Adult\, Aquat
 ics\, Family\, Parents\, Pools\, Recreation\, Recreation Centers\, Teens\
 , Torpedo Factory Art Center\, Youth\n\nWeb resources:\n\nRPCA Program\, 
 Activity\, & Service Cancellations\nhttps://www.alexandriava.gov/rpca/rpc
 a-program-activity-service-cancellations\nVerify status of programs\, ser
 vices\, and facility operations during inclement weather and closures.\n\
 nRecreation Website\nhttps://www.alexandriava.gov/Recreation\nFind out mo
 re about the Department of Recreation\, Parks & Cultural Activities (RPCA
 ).\n\nRPCA Social Media\nhttps://www.alexandriava.gov/Recreation#Connectw
 ithUs\nFollow us on Instagram\, Facebook\, & Twitter!\n
DTEND;VALUE=DATE:20251014
DTSTAMP:20241223T162323Z
DTSTART;VALUE=DATE:20251013
SEQUENCE:5
STATUS:CANCELLED
SUMMARY:RPCA Closure: Indigenous Peoples' Day
TRANSP:TRANSPARENT
UID:f2abe566-44da-4c71-8a5e-45d7e1a299cd
URL:https://www.alexandriava.gov/rpca/rpca-program-activity-service-cancel
 lations
X-ALT-DESC;FMTTYPE=text/html:To verify info please see <a href="https://ap
 ps.alexandriava.gov/Calendar/Detail.aspx?si=58452">https://apps.alexandri
 ava.gov/Calendar/Detail.aspx?si=58452</a><br />\n<br />Monday\, October 1
 3 - Indigenous Peoples&#39\; Day\n<br />\n<br />Charles Houston &amp\; Pa
 trick Henry: 9 a.m.-3 p.m.\n<br />All Other Facilities: Closed\n<br />\n<
 br />Please visit the links below for more information.\n<br />\n<br />Lo
 cation:  No Location Specified\n<br />Audience: Anyone may attend\n<br />
 Tags: Adult\, Aquatics\, Family\, Parents\, Pools\, Recreation\, Recreati
 on Centers\, Teens\, Torpedo Factory Art Center\, Youth<br>\n<a href="htt
 ps://www.alexandriava.gov/rpca/rpca-program-activity-service-cancellation
 s">RPCA Program\, Activity\, &amp\; Service Cancellations</a><br>\nVerify
  status of programs\, services\, and facility operations during inclement
  weather and closures.<br>\n<a href="https://www.alexandriava.gov/Recreat
 ion">Recreation Website</a><br>\nFind out more about the Department of Re
 creation\, Parks &amp\; Cultural Activities (RPCA).<br>\n<a href="https:/
 /www.alexandriava.gov/Recreation#ConnectwithUs">RPCA Social Media</a><br>
 \nFollow us on Instagram\, Facebook\, &amp\; Twitter!<br>\n
X-COA-DTSTAMP:20241223T162323Z
END:VEVENT
END:VCALENDAR
