BEGIN:VCALENDAR
CALSCALE:GREGORIAN
METHOD:PUBLISH
PRODID:-//github.com/ical-org/ical.net//NONSGML ical.net 4.0//EN
VERSION:2.0
X-WR-TIMEZONE:US/Eastern
BEGIN:VEVENT
CATEGORIES:Adult
CATEGORIES:Arts
CATEGORIES:Family
CATEGORIES:Parents
CATEGORIES:Pools
CATEGORIES:Recreation
CATEGORIES:Recreation Centers
CATEGORIES:Teens
CATEGORIES:Torpedo Factory Art Center
CATEGORIES:Youth
DESCRIPTION:To verify info please see https://apps.alexandriava.gov/Calend
 ar/Detail.aspx?si=58450\n\nFriday\, July 4 Independence Day Hours: \n\nOP
 EN:\nOld Town Pool & Warwick Pool: 10 a.m.-4 p.m.\n\nAll Other Facilities
 : Closed \n\nLocation:  No Location Specified\nAudience: Anyone may atten
 d\nTags: Adult\, Arts\, Family\, Parents\, Pools\, Recreation\, Recreatio
 n Centers\, Teens\, Torpedo Factory Art Center\, Youth\n\nWeb resources:\
 n\nRPCA Program\, Activity\, & Service Cancellations\nhttps://www.alexand
 riava.gov/rpca/rpca-program-activity-service-cancellations\nVerify status
  of programs\, services\, and facility operations during inclement weathe
 r and closures.\n\nRPCA Website\nhttps://www.alexandriava.gov/Recreation\
 nFind out more about the Department of Recreation\, Parks & Cultural Acti
 vities (RPCA).\n\nRPCA Social Media\nhttps://www.alexandriava.gov/Recreat
 ion#ConnectwithUs\nFollow us on Instagram\, Facebook\, & Twitter!\n\nTorp
 edo Factory Art Center\nhttps://torpedofactory.org/\nLearn more about the
  Torpedo Factory Art Center.\n\nAquatic Facilities\nhttps://www.alexandri
 ava.gov/Aquatics\nLearn more about RPCA's Aquatic Facilities.\n
DTEND;VALUE=DATE:20250705
DTSTAMP:20241223T161641Z
DTSTART;VALUE=DATE:20250704
SEQUENCE:5
STATUS:CANCELLED
SUMMARY:RPCA Closure: Independence Day
TRANSP:TRANSPARENT
UID:63dc0e25-636a-401d-8f95-1367098c58b8
URL:https://www.alexandriava.gov/rpca/rpca-program-activity-service-cancel
 lations
X-ALT-DESC;FMTTYPE=text/html:To verify info please see <a href="https://ap
 ps.alexandriava.gov/Calendar/Detail.aspx?si=58450">https://apps.alexandri
 ava.gov/Calendar/Detail.aspx?si=58450</a><br />\n<br />Friday\, July 4 In
 dependence Day Hours: \n<br />\n<br />OPEN:\n<br />Old Town Pool &amp\; W
 arwick Pool: 10 a.m.-4 p.m.\n<br />\n<br />All Other Facilities: Closed \
 n<br />\n<br />Location:  No Location Specified\n<br />Audience: Anyone m
 ay attend\n<br />Tags: Adult\, Arts\, Family\, Parents\, Pools\, Recreati
 on\, Recreation Centers\, Teens\, Torpedo Factory Art Center\, Youth<br>\
 n<a href="https://www.alexandriava.gov/rpca/rpca-program-activity-service
 -cancellations">RPCA Program\, Activity\, &amp\; Service Cancellations</a
 ><br>\nVerify status of programs\, services\, and facility operations dur
 ing inclement weather and closures.<br>\n<a href="https://www.alexandriav
 a.gov/Recreation">RPCA Website</a><br>\nFind out more about the Departmen
 t of Recreation\, Parks &amp\; Cultural Activities (RPCA).<br>\n<a href="
 https://www.alexandriava.gov/Recreation#ConnectwithUs">RPCA Social Media<
 /a><br>\nFollow us on Instagram\, Facebook\, &amp\; Twitter!<br>\n<a href
 ="https://torpedofactory.org/">Torpedo Factory Art Center</a><br>\nLearn 
 more about the Torpedo Factory Art Center.<br>\n<a href="https://www.alex
 andriava.gov/Aquatics">Aquatic Facilities</a><br>\nLearn more about RPCA&
 #39\;s Aquatic Facilities.<br>\n
X-COA-DTSTAMP:20241223T161641Z
END:VEVENT
END:VCALENDAR
