BEGIN:VCALENDAR
CALSCALE:GREGORIAN
METHOD:PUBLISH
PRODID:-//github.com/ical-org/ical.net//NONSGML ical.net 4.0//EN
VERSION:2.0
X-WR-TIMEZONE:US/Eastern
BEGIN:VEVENT
CATEGORIES:Boards & Commissions
CATEGORIES:Regular Meeting
CATEGORIES:T&ES Events
CATEGORIES:Water
DESCRIPTION:To verify info please see https://apps.alexandriava.gov/Calend
 ar/Detail.aspx?si=58432\n\nMembers of the Board and staff are participati
 ng in person. The meeting can be accessed by the public in person at the 
 Ed Semonian Boardroom or through the live broadcast on Microsoft Virtual 
 Events Powered By Teams\n \nPublic comment will be taken in person at Ale
 xRenew. Submission of written statements is encouraged. Written statement
 s may be emailed to the Board Secretary\nLorna.huff@alexrenew.com\n\nLoca
 tion: AlexRenew Education Center & Meeting Space \, 1800 Limerick Street\
 nContact Person: Lorna Huff\nContact Phone: 703.721.3500\, ext. 2260\nCon
 tact Email: lorna.huff@alexrenew.com\nAudience: Anyone may attend\nTags: 
 Boards & Commissions\, Regular Meeting\, T&ES Events\, Water\n\nWeb resou
 rces:\n\nMicrosoft Virtual Events\nhttps://events.teams.microsoft.com/eve
 nt/b3e4904d-313d-4e2a-aa8f-4a0158220a85@bc392915-4dc1-4660-adb6-3ff5598df
 7ec\n\nAlexRenew\nhttp://www.alexrenew.com\n
DTEND:20250618T000001Z
DTSTAMP:20250109T144942Z
DTSTART:20250617T220000Z
LOCATION:AlexRenew Education Center & Meeting Space \, 1800 Limerick Street
SEQUENCE:6
STATUS:CONFIRMED
SUMMARY:AlexRenew Regular Board of Directors Meeting
TRANSP:TRANSPARENT
UID:a415762a-7918-499e-87dc-ac6addc6bb1c
URL:https://events.teams.microsoft.com/event/b3e4904d-313d-4e2a-aa8f-4a015
 8220a85@bc392915-4dc1-4660-adb6-3ff5598df7ec
X-ALT-DESC;FMTTYPE=text/html:To verify info please see <a href="https://ap
 ps.alexandriava.gov/Calendar/Detail.aspx?si=58432">https://apps.alexandri
 ava.gov/Calendar/Detail.aspx?si=58432</a><br />\n<br />Members of the Boa
 rd and staff are participating in person. The meeting can be accessed by 
 the public in person at the Ed Semonian Boardroom or through the live bro
 adcast on Microsoft Virtual Events Powered By Teams\n<br /> \n<br />Publi
 c comment will be taken in person at AlexRenew. Submission of written sta
 tements is encouraged. Written statements may be emailed to the Board Sec
 retary\n<br />Lorna.huff@alexrenew.com\n<br />\n<br />Location: AlexRenew
  Education Center &amp\; Meeting Space \, 1800 Limerick Street\n<br />Con
 tact Person: Lorna Huff\n<br />Contact Phone: 703.721.3500\, ext. 2260\n<
 br />Contact Email: lorna.huff@alexrenew.com\n<br />Audience: Anyone may 
 attend\n<br />Tags: Boards &amp\; Commissions\, Regular Meeting\, T&amp\;
 ES Events\, Water<br>\n<a href="https://events.teams.microsoft.com/event/
 b3e4904d-313d-4e2a-aa8f-4a0158220a85@bc392915-4dc1-4660-adb6-3ff5598df7ec
 ">Microsoft Virtual Events</a><br>\n<a href="http://www.alexrenew.com">Al
 exRenew</a><br>\n
X-COA-DTSTAMP:20250109T144942Z
END:VEVENT
END:VCALENDAR
