BEGIN:VCALENDAR
CALSCALE:GREGORIAN
METHOD:PUBLISH
PRODID:-//github.com/ical-org/ical.net//NONSGML ical.net 4.0//EN
VERSION:2.0
X-WR-TIMEZONE:US/Eastern
BEGIN:VEVENT
CATEGORIES:Board of Zoning Appeals
CATEGORIES:Boards & Commissions
CATEGORIES:Cablecast
CATEGORIES:Planning Boards and Commissions
CATEGORIES:Planning Meeting
DESCRIPTION:To verify info please see https://apps.alexandriava.gov/Calend
 ar/Detail.aspx?si=58412\n\nBoard of Zoning Appeals Regularly scheduled he
 aring.*Hearing end times are approximate.\n\nLocation: City Hall\, Counci
 l Chamber\, 301 King St.\nContact Person: Shekyta Taylor\nContact Phone: 
 703.746.4666\nContact Email: shekyta.taylor@alexandriava.gov\nAudience: A
 nyone may attend\nTags: Board of Zoning Appeals\, Boards & Commissions\, 
 Cablecast\, Planning Boards and Commissions\, Planning Meeting
DTEND:20250408T030000Z
DTSTAMP:20250102T165530Z
DTSTART:20250407T230000Z
GEO:38.805393;-77.043273
LOCATION:City Hall\, Council Chamber\, 301 King St.
SEQUENCE:6
STATUS:CONFIRMED
SUMMARY:Board of Zoning Appeals Public Hearing
TRANSP:TRANSPARENT
UID:db317ad3-6195-4eaa-b5d9-931f529b5566
X-ALT-DESC;FMTTYPE=text/html:To verify info please see <a href="https://ap
 ps.alexandriava.gov/Calendar/Detail.aspx?si=58412">https://apps.alexandri
 ava.gov/Calendar/Detail.aspx?si=58412</a><br />\n<br />Board of Zoning Ap
 peals Regularly scheduled hearing.*Hearing end times are approximate.\n<b
 r />\n<br />Location: City Hall\, Council Chamber\, 301 King St.\n<br />C
 ontact Person: Shekyta Taylor\n<br />Contact Phone: 703.746.4666\n<br />C
 ontact Email: shekyta.taylor@alexandriava.gov\n<br />Audience: Anyone may
  attend\n<br />Tags: Board of Zoning Appeals\, Boards &amp\; Commissions\
 , Cablecast\, Planning Boards and Commissions\, Planning Meeting
X-COA-DTSTAMP:20250102T165530Z
END:VEVENT
END:VCALENDAR
