BEGIN:VCALENDAR
CALSCALE:GREGORIAN
METHOD:PUBLISH
PRODID:-//github.com/ical-org/ical.net//NONSGML ical.net 4.0//EN
VERSION:2.0
X-WR-TIMEZONE:US/Eastern
BEGIN:VEVENT
CATEGORIES:Community Outreach
CATEGORIES:Family
CATEGORIES:Nature
CATEGORIES:Recreation
CATEGORIES:Recreation Centers
CATEGORIES:Teens
CATEGORIES:Toddlers
CATEGORIES:Youth
DESCRIPTION:To verify info please see https://apps.alexandriava.gov/Calend
 ar/Detail.aspx?si=58399\n\nDiscover the seasonal wildlife at Dora Kelley 
 Nature Park and help support conservation efforts! Whether you're an avid
  birdwatcher or a nature newbie\, enjoy spotting local species with binoc
 ulars available for loan. It's a fun way to connect with nature and contr
 ibute to preserving it!\n\nLocation: Jerome "Buddie" Ford Nature Center\,
  5750 Sanger Avenue\nContact Phone: 703.746.5559\nAudience: Anyone may at
 tend\nTags: Community Outreach\, Family\, Nature\, Recreation\, Recreatio
 n Centers\, Teens\, Toddlers\, Youth\n\nWeb resources:\n\nJerome "Buddie"
  Ford Nature Center\nhttps://www.alexandriava.gov/NatureCenter\nLearn mor
 e about the Nature Center!\n\nRPCA Website\nhttps://www.alexandriava.gov/
 Recreation\nFind out more about the Department of Recreation\, Parks & Cu
 ltural Activities (RPCA).\n\nRPCA Social Media\nhttps://www.alexandriava.
 gov/Recreation#ConnectwithUs\nFollow us on Instagram\, Facebook\, & Twitt
 er!\n
DTEND:20250404T150000Z
DTSTAMP:20241217T165108Z
DTSTART:20250404T130000Z
GEO:38.827623;-77.131512
LOCATION:Jerome "Buddie" Ford Nature Center\, 5750 Sanger Avenue
SEQUENCE:5
STATUS:CONFIRMED
SUMMARY:First Friday Bird Count
TRANSP:TRANSPARENT
UID:a144e642-53df-45b1-bcf1-63def639ffeb
URL:https://www.alexandriava.gov/NatureCenter
X-ALT-DESC;FMTTYPE=text/html:To verify info please see <a href="https://ap
 ps.alexandriava.gov/Calendar/Detail.aspx?si=58399">https://apps.alexandri
 ava.gov/Calendar/Detail.aspx?si=58399</a><br />\n<br />Discover the seaso
 nal wildlife at Dora Kelley Nature Park and help support conservation eff
 orts! Whether you&#39\;re an avid birdwatcher or a nature newbie\, enjoy 
 spotting local species with binoculars available for loan. It?s a fun way
  to connect with nature and contribute to preserving it!\n<br />\n<br />L
 ocation: Jerome &quot\;Buddie&quot\; Ford Nature Center\, 5750 Sanger Ave
 nue\n<br />Contact Phone: 703.746.5559\n<br />Audience: Anyone may attend
 \n<br />Tags: Community Outreach\, Family\, Nature\, Recreation\, Recreat
 ion Centers\, Teens\, Toddlers\, Youth<br>\n<a href="https://www.alexandr
 iava.gov/NatureCenter">Jerome &quot\;Buddie&quot\; Ford Nature Center</a>
 <br>\nLearn more about the Nature Center!<br>\n<a href="https://www.alexa
 ndriava.gov/Recreation">RPCA Website</a><br>\nFind out more about the Dep
 artment of Recreation\, Parks &amp\; Cultural Activities (RPCA).<br>\n<a 
 href="https://www.alexandriava.gov/Recreation#ConnectwithUs">RPCA Social 
 Media</a><br>\nFollow us on Instagram\, Facebook\, &amp\; Twitter!<br>\n
X-COA-DTSTAMP:20241217T165108Z
END:VEVENT
END:VCALENDAR
