BEGIN:VCALENDAR
CALSCALE:GREGORIAN
METHOD:PUBLISH
PRODID:-//github.com/ical-org/ical.net//NONSGML ical.net 4.0//EN
VERSION:2.0
X-WR-TIMEZONE:US/Eastern
BEGIN:VEVENT
DESCRIPTION:To verify info please see https://apps.alexandriava.gov/Calend
 ar/Detail.aspx?si=58389\n\nThe meeting is the scheduled Independent Commu
 nity Policing Review Board monthly meeting. The Board welcomes community 
 comments.\n\nLocation: City Hall\, Council Work Room\, 301 King St.\nCont
 act Person: Ashley Kollmorgen\nContact Phone: 703.746.3993\nContact Email
 : policeoversight@alexandriava.gov\nAudience: Anyone may attend\n\nWeb re
 sources:\n\nAGENDA \nhttps://www.alexandriava.gov/sites/default/files/202
 5-07/FINAL%20Agenda%2008-06-2025.pdf\n\nhttps://www.alexandriava.gov/publ
 ic-safety/alexandria-community-policing-review-board\n
DTEND:20250807T010000Z
DTSTAMP:20250730T193241Z
DTSTART:20250806T230000Z
GEO:38.805416;-77.043305
LOCATION:City Hall\, Council Work Room\, 301 King St.
SEQUENCE:9
STATUS:CONFIRMED
SUMMARY:Independent Community Policing Review Board
TRANSP:OPAQUE
UID:bcd97bdb-a8a8-47d6-9e29-031fb1c8ac71
URL:https://www.alexandriava.gov/sites/default/files/2025-07/FINAL%20Agend
 a%2008-06-2025.pdf
X-ALT-DESC;FMTTYPE=text/html:To verify info please see <a href="https://ap
 ps.alexandriava.gov/Calendar/Detail.aspx?si=58389">https://apps.alexandri
 ava.gov/Calendar/Detail.aspx?si=58389</a><br />\n<br />The meeting is the
  scheduled Independent Community Policing Review Board monthly meeting. T
 he Board welcomes community comments.\n<br />\n<br />Location: City Hall\
 , Council Work Room\, 301 King St.\n<br />Contact Person: Ashley Kollmorg
 en\n<br />Contact Phone: 703.746.3993\n<br />Contact Email: policeoversig
 ht@alexandriava.gov\n<br />Audience: Anyone may attend<br>\n<a href="http
 s://www.alexandriava.gov/sites/default/files/2025-07/FINAL%20Agenda%2008-
 06-2025.pdf">AGENDA </a><br>\n<a href="https://www.alexandriava.gov/publi
 c-safety/alexandria-community-policing-review-board">https://www.alexandr
 iava.gov/public-safety/alexandria-community-policing-review-board</a><br>
 \n
X-COA-DTSTAMP:20250730T193241Z
END:VEVENT
END:VCALENDAR
