BEGIN:VCALENDAR
CALSCALE:GREGORIAN
METHOD:PUBLISH
PRODID:-//github.com/ical-org/ical.net//NONSGML ical.net 4.0//EN
VERSION:2.0
X-WR-TIMEZONE:US/Eastern
BEGIN:VEVENT
CATEGORIES:Boards & Commissions
CATEGORIES:Independent Community Policing Review Board
DESCRIPTION:To verify info please see https://apps.alexandriava.gov/Calend
 ar/Detail.aspx?si=58385\n\nThe meeting is the scheduled Independent Commu
 nity Policing Review Board monthly meeting. The Board welcomes community 
 comments.\n\nLocation: City Hall\, Council Work Room\, 301 King St.\nCont
 act Person: Ashley Kollmorgen\nContact Phone: 703.746.3993\nContact Email
 : policeoversight@alexandriava.gov\nAudience: Anyone may attend\nTags: Bo
 ards & Commissions\, Independent Community Policing Review Board\n\nWeb r
 esources:\n\nApril 2nd\, 2025 ICPRB Meeting Agenda\nhttps://www.alexandri
 ava.gov/sites/default/files/2025-03/FINAL%20Agenda%2004-02-2025.pdf\n\nht
 tps://www.alexandriava.gov/public-safety/alexandria-community-policing-re
 view-board\n
DTEND:20250403T010000Z
DTSTAMP:20250321T154552Z
DTSTART:20250402T230000Z
GEO:38.805416;-77.043305
LOCATION:City Hall\, Council Work Room\, 301 King St.
SEQUENCE:11
STATUS:CONFIRMED
SUMMARY:Independent Community Policing Review Board
TRANSP:OPAQUE
UID:10db0b34-cb9b-4197-9354-cf81a7a0f49a
URL:https://www.alexandriava.gov/sites/default/files/2025-03/FINAL%20Agend
 a%2004-02-2025.pdf
X-ALT-DESC;FMTTYPE=text/html:To verify info please see <a href="https://ap
 ps.alexandriava.gov/Calendar/Detail.aspx?si=58385">https://apps.alexandri
 ava.gov/Calendar/Detail.aspx?si=58385</a><br />\n<br />The meeting is the
  scheduled Independent Community Policing Review Board monthly meeting. T
 he Board welcomes community comments.\n<br />\n<br />Location: City Hall\
 , Council Work Room\, 301 King St.\n<br />Contact Person: Ashley Kollmorg
 en\n<br />Contact Phone: 703.746.3993\n<br />Contact Email: policeoversig
 ht@alexandriava.gov\n<br />Audience: Anyone may attend\n<br />Tags: Board
 s &amp\; Commissions\, Independent Community Policing Review Board<br>\n<
 a href="https://www.alexandriava.gov/sites/default/files/2025-03/FINAL%20
 Agenda%2004-02-2025.pdf">April 2nd\, 2025 ICPRB Meeting Agenda</a><br>\n<
 a href="https://www.alexandriava.gov/public-safety/alexandria-community-p
 olicing-review-board">https://www.alexandriava.gov/public-safety/alexandr
 ia-community-policing-review-board</a><br>\n
X-COA-DTSTAMP:20250321T154552Z
END:VEVENT
END:VCALENDAR
