BEGIN:VCALENDAR
CALSCALE:GREGORIAN
METHOD:PUBLISH
PRODID:-//github.com/ical-org/ical.net//NONSGML ical.net 4.0//EN
VERSION:2.0
X-WR-TIMEZONE:US/Eastern
BEGIN:VEVENT
CATEGORIES:Affordable Housing
DESCRIPTION:To verify info please see https://apps.alexandriava.gov/Calend
 ar/Detail.aspx?si=58343\n\nCommon Interest Communities Training Series: B
 uilding a Budget\n\nJoin Pia Trigiani and David Mercer from the law firm 
 Mercer-Trigiani to learn more about what common interest community boards
  should know about building a budget.\n\nRegister in advance for this web
 inar:\nhttps://zoom.us/webinar/register/6917340352677/WN_Pjpe_MeJTzCUjBKS
 PrkCpg\n\nCall-in number: 301.715.8592\n    Meeting ID: 991 7277 9415\n  
   Passcode: 066449\n\nAfter registering\, you will receive a confirmation
  email containing information about joining the webinar.\n\nLocation:  Vi
 rtual Only\nContact Person: Kim Cadena\nContact Phone: 703.746.3104\nCont
 act Email: kimberly.cadena@alexandriava.gov\nAudience: Anyone may attend\
 nTags: Affordable Housing\n\nWeb resources:\n\nOffice of Housing\nhttps:/
 /alexandriava.gov/Housing\n
DTEND:20250322T153000Z
DTSTAMP:20241212T224913Z
DTSTART:20250322T133000Z
LOCATION: Virtual Only
SEQUENCE:5
STATUS:CONFIRMED
SUMMARY:Common Interest Communities Training Series
TRANSP:OPAQUE
UID:3ddd103b-3db0-41a3-8b25-f449e9b8fc84
URL:https://alexandriava.gov/Housing
X-ALT-DESC;FMTTYPE=text/html:To verify info please see <a href="https://ap
 ps.alexandriava.gov/Calendar/Detail.aspx?si=58343">https://apps.alexandri
 ava.gov/Calendar/Detail.aspx?si=58343</a><br />\n<br />Common Interest Co
 mmunities Training Series: Building a Budget\n<br />\n<br />Join Pia Trig
 iani and David Mercer from the law firm Mercer-Trigiani to learn more abo
 ut what common interest community boards should know about building a bud
 get.\n<br />\n<br />Register in advance for this webinar:\n<br />https://
 zoom.us/webinar/register/6917340352677/WN_Pjpe_MeJTzCUjBKSPrkCpg\n<br />\
 n<br />Call-in number: 301.715.8592\n<br />    Meeting ID: 991 7277 9415\
 n<br />    Passcode: 066449\n<br />\n<br />After registering\, you will r
 eceive a confirmation email containing information about joining the webi
 nar.\n<br />\n<br />Location:  Virtual Only\n<br />Contact Person: Kim Ca
 dena\n<br />Contact Phone: 703.746.3104\n<br />Contact Email: kimberly.ca
 dena@alexandriava.gov\n<br />Audience: Anyone may attend\n<br />Tags: Aff
 ordable Housing<br>\n<a href="https://alexandriava.gov/Housing">Office of
  Housing</a><br>\n
X-COA-DTSTAMP:20241212T224913Z
END:VEVENT
END:VCALENDAR
