BEGIN:VCALENDAR
CALSCALE:GREGORIAN
METHOD:PUBLISH
PRODID:-//github.com/ical-org/ical.net//NONSGML ical.net 4.0//EN
VERSION:2.0
X-WR-TIMEZONE:US/Eastern
BEGIN:VEVENT
DESCRIPTION:To verify info please see https://apps.alexandriava.gov/Calend
 ar/Detail.aspx?si=58295\n\nMeeting in-person\, 6th floor\, conference roo
 m 6401\,\n\nLocation: 4850 Mark Center Drive\, 4850 Mark Center Drive\nCo
 ntact Person: Ashley Johnson\nContact Phone: 703.746.3389\nAudience: Anyo
 ne may attend
DTEND:20250306T233000Z
DTSTAMP:20250910T192817Z
DTSTART:20250306T213000Z
LOCATION:4850 Mark Center Drive\, 4850 Mark Center Drive
SEQUENCE:6
STATUS:CONFIRMED
SUMMARY:Commission on Aging Economic Committee
TRANSP:TRANSPARENT
UID:281e01e7-6ced-48a5-b301-15f603d39143
X-ALT-DESC;FMTTYPE=text/html:To verify info please see <a href="https://ap
 ps.alexandriava.gov/Calendar/Detail.aspx?si=58295">https://apps.alexandri
 ava.gov/Calendar/Detail.aspx?si=58295</a><br />\n<br />Meeting in-person\
 , 6th floor\, conference room 6401\,\n<br />\n<br />Location: 4850 Mark C
 enter Drive\, 4850 Mark Center Drive\n<br />Contact Person: Ashley Johnso
 n\n<br />Contact Phone: 703.746.3389\n<br />Audience: Anyone may attend
X-COA-DTSTAMP:20250910T192817Z
END:VEVENT
END:VCALENDAR
