BEGIN:VCALENDAR
CALSCALE:GREGORIAN
METHOD:PUBLISH
PRODID:-//github.com/ical-org/ical.net//NONSGML ical.net 4.0//EN
VERSION:2.0
X-WR-TIMEZONE:US/Eastern
BEGIN:VEVENT
CATEGORIES:Adult
CATEGORIES:Aging
CATEGORIES:Boards & Commissions
CATEGORIES:Commission Meeting
CATEGORIES:DCHS
CATEGORIES:Seniors
DESCRIPTION:To verify info please see https://apps.alexandriava.gov/Calend
 ar/Detail.aspx?si=58282\n\nMeeting to be held at MCD\, 9th floor\, room 9
 208\n\nLocation: 4850 Mark Center Drive\, 4850 Mark Center Drive\nContact
  Person: Ashley Johnson\nContact Phone: 703.746.3389\nContact Email: ashl
 ey.johnson@alexandriava.gov\nAudience: Anyone may attend\nTags: Adult\, A
 ging\, Boards & Commissions\, Commission Meeting\, DCHS\, Seniors
DTEND:20250313T200000Z
DTSTAMP:20250313T182937Z
DTSTART:20250313T190000Z
LOCATION:4850 Mark Center Drive\, 4850 Mark Center Drive
SEQUENCE:6
STATUS:CANCELLED
SUMMARY:CANCELLED: Commission on Aging Health Committee
TRANSP:TRANSPARENT
UID:721eddf8-7cf6-422d-8f4d-96a8ceef6f46
X-ALT-DESC;FMTTYPE=text/html:To verify info please see <a href="https://ap
 ps.alexandriava.gov/Calendar/Detail.aspx?si=58282">https://apps.alexandri
 ava.gov/Calendar/Detail.aspx?si=58282</a><br />\n<br />Meeting to be held
  at MCD\, 9th floor\, room 9208\n<br />\n<br />Location: 4850 Mark Center
  Drive\, 4850 Mark Center Drive\n<br />Contact Person: Ashley Johnson\n<b
 r />Contact Phone: 703.746.3389\n<br />Contact Email: ashley.johnson@alex
 andriava.gov\n<br />Audience: Anyone may attend\n<br />Tags: Adult\, Agin
 g\, Boards &amp\; Commissions\, Commission Meeting\, DCHS\, Seniors
X-COA-DTSTAMP:20250313T182937Z
END:VEVENT
END:VCALENDAR
