BEGIN:VCALENDAR
CALSCALE:GREGORIAN
METHOD:PUBLISH
PRODID:-//github.com/ical-org/ical.net//NONSGML ical.net 4.0//EN
VERSION:2.0
X-WR-TIMEZONE:US/Eastern
BEGIN:VEVENT
CATEGORIES:Adult
CATEGORIES:Aging
CATEGORIES:Boards & Commissions
CATEGORIES:Commission Meeting
CATEGORIES:DCHS
CATEGORIES:Seniors
DESCRIPTION:To verify info please see https://apps.alexandriava.gov/Calend
 ar/Detail.aspx?si=58259\n\nVirtual Meeting\n\nLocation:  Virtual Only\nCo
 ntact Person: Ashley Johnson\nContact Phone: 703.746.3389\nAudience: Anyo
 ne may attend\nTags: Adult\, Aging\, Boards & Commissions\, Commission Me
 eting\, DCHS\, Seniors
DTEND:20250403T223000Z
DTSTAMP:20241202T193052Z
DTSTART:20250403T203000Z
LOCATION: Virtual Only
SEQUENCE:5
STATUS:CONFIRMED
SUMMARY:VIRTUAL: Commission on Aging Economic Committee
TRANSP:TRANSPARENT
UID:4111938c-07c4-45e7-b74f-66064af766a1
X-ALT-DESC;FMTTYPE=text/html:To verify info please see <a href="https://ap
 ps.alexandriava.gov/Calendar/Detail.aspx?si=58259">https://apps.alexandri
 ava.gov/Calendar/Detail.aspx?si=58259</a><br />\n<br />Virtual Meeting\n<
 br />\n<br />Location:  Virtual Only\n<br />Contact Person: Ashley Johnso
 n\n<br />Contact Phone: 703.746.3389\n<br />Audience: Anyone may attend\n
 <br />Tags: Adult\, Aging\, Boards &amp\; Commissions\, Commission Meetin
 g\, DCHS\, Seniors
X-COA-DTSTAMP:20241202T193052Z
END:VEVENT
END:VCALENDAR
