BEGIN:VCALENDAR
CALSCALE:GREGORIAN
METHOD:PUBLISH
PRODID:-//github.com/ical-org/ical.net//NONSGML ical.net 4.0//EN
VERSION:2.0
X-WR-TIMEZONE:US/Eastern
BEGIN:VEVENT
DESCRIPTION:To verify info please see https://apps.alexandriava.gov/Calend
 ar/Detail.aspx?si=58247\n\nCity Offices Closed for Independence Day Holid
 ay \n\nLocation:  No Location Specified\nAudience: Anyone may attend
DTEND;VALUE=DATE:20250705
DTSTAMP:20251230T150440Z
DTSTART;VALUE=DATE:20250704
SEQUENCE:6
STATUS:CANCELLED
SUMMARY:City Offices Closed Independence Day Holiday
TRANSP:TRANSPARENT
UID:65d3f821-b729-4c9b-8e19-da01cda15aa9
X-ALT-DESC;FMTTYPE=text/html:To verify info please see <a href="https://ap
 ps.alexandriava.gov/Calendar/Detail.aspx?si=58247">https://apps.alexandri
 ava.gov/Calendar/Detail.aspx?si=58247</a><br />\n<br />City Offices Close
 d for Independence Day Holiday \n<br />\n<br />Location:  No Location Spe
 cified\n<br />Audience: Anyone may attend
X-COA-DTSTAMP:20251230T150440Z
END:VEVENT
END:VCALENDAR
