BEGIN:VCALENDAR
CALSCALE:GREGORIAN
METHOD:PUBLISH
PRODID:-//github.com/ical-org/ical.net//NONSGML ical.net 4.0//EN
VERSION:2.0
X-WR-TIMEZONE:US/Eastern
BEGIN:VEVENT
CATEGORIES:Cablecast
CATEGORIES:City Council
CATEGORIES:City Council Calendar
CATEGORIES:City Council Public Comment Opportunity
CATEGORIES:City Hall
CATEGORIES:Public Hearing
CATEGORIES:Webcast
DESCRIPTION:To verify info please see https://apps.alexandriava.gov/Calend
 ar/Detail.aspx?si=58223\n\nThe June 14\, 2025\, Public Hearing Meeting of
  the Alexandria City Council is being held in the Council Chamber (301 Ki
 ng Street\, Alexandria\, Virginia\, 22314) and electronically. Members of
  City Council and staff are participating either in-person or from a remo
 te location through video conference call on Zoom webinar. The meeting ca
 n be accessed by government channel 70\, streaming on the City's website\
 , and\nvia Zoom by the following link:\n\nWebinar ID: 969 2626 3131\nWebi
 nar Passcode:  969959\nDial-in number: 301-715-8592\nRegistration:  https
 ://zoom.us/webinar/register/WN_mb8OdIHVRlKIr2D8IJ8IdQ\n\nIf you use the Z
 oom webinar application\, please be sure you have updated the application
  to the latest version for the best results. If you are unable to access 
 the Zoom webinar\, please use the Dial-In number to access the meeting.\n
 \n***PLEASE LOG-IN EARLY IF POSSIBLE***\n\nLinks:\nMeeting Agenda and Liv
 e Webcast\nThe meeting will be webcast live and video and audio recording
 s will be available a few days after the meeting.\n\nZoom Registration Fo
 rm\nIf you wish to use Zoom to watch the meeting or to address Council\, 
 you must register first. Those wishing to address Council should also sub
 mit a Speaker's Form using the link below.\n\nSpeaker's Form\nhttps://app
 s.alexandriava.gov/SpeakerSignup/\n\nSubmission of written statements is 
 encouraged. Please sign up after the docket is created and posted and you
  are able to verify the meeting date on the City's website. If you have p
 repared statement or a written comments for the record you may email it t
 o the City Clerk at CouncilComment@alexandriava.gov.\n\nPublic Comment wi
 ll be received at this meeting.\n\n*****\nIndividuals requiring translati
 on services should contact the City Clerk and Clerk of Council at gloria.
 sitton@alexandriava.gov or at 703.746.4550. We request that you provide a
  48-hour notice so that the proper arrangements may be made. Please speci
 fy the language for translation when you make the request.\n\nLas persona
 s que requieran servicios de traducci?n deben comunicarse con el Secretar
 io de la Ciudad y el Secretario del Consejo en gloria.sitton@alexandriava
 .gov o al 703.746.4550. Le solicitamos que proporcione un aviso de 48 hor
 as para que se puedan hacer los arreglos necesarios. Por favor\, especifi
 que el idioma de traducci?n cuando realice la solicitud.\n\nLocation: Cit
 y Hall\, Council Chamber\, 301 King St.\nContact Person: Gloria Sitton\nC
 ontact Email: CouncilComment@alexandriava.gov\nAudience: Anyone may atten
 d\nTags: Cablecast\, City Council\, City Council Calendar\, City Council 
 Public Comment Opportunity\, City Hall\, Public Hearing\, Webcast\n\nWeb 
 resources:\n\nMeeting Agenda\nhttps://legistar.granicus.com/alexandria/me
 etings/2025/6/2605_A_City_Council_Public_Hearing_25-06-14_Docket.pdf\n
DTEND:20250614T200000Z
DTSTAMP:20250610T183812Z
DTSTART:20250614T133000Z
GEO:38.805393;-77.043273
LOCATION:City Hall\, Council Chamber\, 301 King St.
SEQUENCE:8
STATUS:CONFIRMED
SUMMARY:City Council Public Hearing Meeting
TRANSP:TRANSPARENT
UID:2c46f39b-6ffd-4f26-b254-ea1ca7edf2e9
URL:https://legistar.granicus.com/alexandria/meetings/2025/6/2605_A_City_C
 ouncil_Public_Hearing_25-06-14_Docket.pdf
X-ALT-DESC;FMTTYPE=text/html:To verify info please see <a href="https://ap
 ps.alexandriava.gov/Calendar/Detail.aspx?si=58223">https://apps.alexandri
 ava.gov/Calendar/Detail.aspx?si=58223</a><br />\n<br />The June 14\, 2025
 \, Public Hearing Meeting of the Alexandria City Council is being held in
  the Council Chamber (301 King Street\, Alexandria\, Virginia\, 22314) an
 d electronically. Members of City Council and staff are participating eit
 her in-person or from a remote location through video conference call on 
 Zoom webinar. The meeting can be accessed by government channel 70\, stre
 aming on the City&#39\;s website\, and\n<br />via Zoom by the following l
 ink:\n<br />\n<br />Webinar ID: 969 2626 3131\n<br />Webinar Passcode:  9
 69959\n<br />Dial-in number: 301-715-8592\n<br />Registration:  https://z
 oom.us/webinar/register/WN_mb8OdIHVRlKIr2D8IJ8IdQ\n<br />\n<br />If you u
 se the Zoom webinar application\, please be sure you have updated the app
 lication to the latest version for the best results. If you are unable to
  access the Zoom webinar\, please use the Dial-In number to access the me
 eting.\n<br />\n<br />***PLEASE LOG-IN EARLY IF POSSIBLE***\n<br />\n<br 
 />Links:\n<br />Meeting Agenda and Live Webcast\n<br />The meeting will b
 e webcast live and video and audio recordings will be available a few day
 s after the meeting.\n<br />\n<br />Zoom Registration Form\n<br />If you 
 wish to use Zoom to watch the meeting or to address Council\, you must re
 gister first. Those wishing to address Council should also submit a Speak
 er&#39\;s Form using the link below.\n<br />\n<br />Speaker&#39\;s Form\n
 <br /><a href="https://apps.alexandriava.gov/SpeakerSignup/">https://apps
 .alexandriava.gov/SpeakerSignup/</a><br />\n<br />Submission of written s
 tatements is encouraged. Please sign up after the docket is created and p
 osted and you are able to verify the meeting date on the City&#39\;s webs
 ite. If you have prepared statement or a written comments for the record 
 you may email it to the City Clerk at CouncilComment@alexandriava.gov.\n<
 br />\n<br />Public Comment will be received at this meeting.\n<br />\n<b
 r />*****\n<br />Individuals requiring translation services should contac
 t the City Clerk and Clerk of Council at gloria.sitton@alexandriava.gov o
 r at 703.746.4550. We request that you provide a 48-hour notice so that t
 he proper arrangements may be made. Please specify the language for trans
 lation when you make the request.\n<br />\n<br />Las personas que requier
 an servicios de traducci&#243\;n deben comunicarse con el Secretario de l
 a Ciudad y el Secretario del Consejo en gloria.sitton@alexandriava.gov o 
 al 703.746.4550. Le solicitamos que proporcione un aviso de 48 horas para
  que se puedan hacer los arreglos necesarios. Por favor\, especifique el 
 idioma de traducci&#243\;n cuando realice la solicitud.\n<br />\n<br />Lo
 cation: City Hall\, Council Chamber\, 301 King St.\n<br />Contact Person:
  Gloria Sitton\n<br />Contact Email: CouncilComment@alexandriava.gov\n<br
  />Audience: Anyone may attend\n<br />Tags: Cablecast\, City Council\, Ci
 ty Council Calendar\, City Council Public Comment Opportunity\, City Hall
 \, Public Hearing\, Webcast<br>\n<a href="https://legistar.granicus.com/a
 lexandria/meetings/2025/6/2605_A_City_Council_Public_Hearing_25-06-14_Doc
 ket.pdf">Meeting Agenda</a><br>\n
X-COA-DTSTAMP:20250610T183812Z
END:VEVENT
END:VCALENDAR
