BEGIN:VCALENDAR
CALSCALE:GREGORIAN
METHOD:PUBLISH
PRODID:-//github.com/ical-org/ical.net//NONSGML ical.net 4.0//EN
VERSION:2.0
X-WR-TIMEZONE:US/Eastern
BEGIN:VEVENT
CATEGORIES:Affordable Housing
CATEGORIES:Boards & Commissions
CATEGORIES:City Hall
CATEGORIES:Commission Meeting
CATEGORIES:Housing2040
DESCRIPTION:To verify info please see https://apps.alexandriava.gov/Calend
 ar/Detail.aspx?si=58117\n\nJoint meeting with the Alexandria Housing Affo
 rdability Advisory Committee and the Landlord-Tenant Relations Board. Bot
 h groups will meet for a joint meeting to discuss Housing 2040 Master Pla
 n business and then break off to conduct their respective regular Committ
 ee business.\n\nThis meeting will be held in City Hall Room 1900. Room 19
 00 is located on the right just beyond the front lobby of City Hall and h
 as frosted glass.\n\nLocation: City Hall Room 1900\, 301 King St\nContact
  Person: Chris Do\nContact Phone: 703.746.3084\nContact Email: christophe
 r.do@alexandriava.gov\nAudience: Anyone may attend\nTags: Affordable Hous
 ing\, Boards & Commissions\, City Hall\, Commission Meeting\, Housing2040
 \n\nWeb resources:\n\nhttp://alexandriava.gov/housing\n
DTEND:20241107T020000Z
DTSTAMP:20241015T155250Z
DTSTART:20241107T000001Z
LOCATION:City Hall Room 1900\, 301 King St
SEQUENCE:5
STATUS:CONFIRMED
SUMMARY:Housing Affordability Advisory Committee
TRANSP:OPAQUE
UID:b23341f9-10c6-47c6-b2f9-c5a83e481684
URL:http://alexandriava.gov/housing
X-ALT-DESC;FMTTYPE=text/html:To verify info please see <a href="https://ap
 ps.alexandriava.gov/Calendar/Detail.aspx?si=58117">https://apps.alexandri
 ava.gov/Calendar/Detail.aspx?si=58117</a><br />\n<br />Joint meeting with
  the Alexandria Housing Affordability Advisory Committee and the Landlord
 -Tenant Relations Board. Both groups will meet for a joint meeting to dis
 cuss Housing 2040 Master Plan business and then break off to conduct thei
 r respective regular Committee business.\n<br />\n<br />This meeting will
  be held in City Hall Room 1900. Room 1900 is located on the right just b
 eyond the front lobby of City Hall and has frosted glass.\n<br />\n<br />
 Location: City Hall Room 1900\, 301 King St\n<br />Contact Person: Chris 
 Do\n<br />Contact Phone: 703.746.3084\n<br />Contact Email: christopher.d
 o@alexandriava.gov\n<br />Audience: Anyone may attend\n<br />Tags: Afford
 able Housing\, Boards &amp\; Commissions\, City Hall\, Commission Meeting
 \, Housing2040<br>\n<a href="http://alexandriava.gov/housing">http://alex
 andriava.gov/housing</a><br>\n
X-COA-DTSTAMP:20241015T155250Z
END:VEVENT
END:VCALENDAR
