BEGIN:VCALENDAR
CALSCALE:GREGORIAN
METHOD:PUBLISH
PRODID:-//github.com/ical-org/ical.net//NONSGML ical.net 4.0//EN
VERSION:2.0
X-WR-TIMEZONE:US/Eastern
BEGIN:VEVENT
CATEGORIES:Black History
CATEGORIES:Black History Museum
CATEGORIES:Museums
CATEGORIES:Old & Historic Alexandria
CATEGORIES:Old Town
DESCRIPTION:To verify info please see https://apps.alexandriava.gov/Calend
 ar/Detail.aspx?si=58086\n\nMeaningful Conversations about Racism - and Wh
 at To Do About It \n\nJoin us as we resume our meaningful conversations t
 hat explore and celebrate the diversity of cultures and peoples in our ar
 ea\, address the attitudes and behaviors that still divide us\, and seek 
 remedies grounded in the recognition that we are one interconnected\, int
 erdependent human family. \n\nThis new series of panel discussions will f
 ocus on how exemplary local non-profits are working to improve and uplift
  our community and how their work relates to key principles for promoting
  racial and social justice and empowering all people to flourish and to a
 ct as protagonists in uplifting our community.\n\nEach conversation will 
 be held at Alexandria's Black History Museum\, 902 Wythe St.\, Alexandria
 \, VA.\n\n\nLocation: Black History Museum\, 902 Wythe St.\nAudience: Any
 one may attend\nTags: Black History\, Black History Museum\, Museums\, Ol
 d & Historic Alexandria\, Old Town
DTEND:20250418T000001Z
DTSTAMP:20241004T205533Z
DTSTART:20250417T230000Z
GEO:38.812083;-77.048042
LOCATION:Black History Museum\, 902 Wythe St.
SEQUENCE:6
STATUS:CONFIRMED
SUMMARY:Meaningful Conversations:Building Your Own Network
TRANSP:OPAQUE
UID:842b5b98-4150-4101-8dec-6f0abf6f3370
X-ALT-DESC;FMTTYPE=text/html:To verify info please see <a href="https://ap
 ps.alexandriava.gov/Calendar/Detail.aspx?si=58086">https://apps.alexandri
 ava.gov/Calendar/Detail.aspx?si=58086</a><br />\n<br />Meaningful Convers
 ations about Racism ? and What To Do About It \n<br />\n<br />Join us as 
 we resume our meaningful conversations that explore and celebrate the div
 ersity of cultures and peoples in our area\, address the attitudes and be
 haviors that still divide us\, and seek remedies grounded in the recognit
 ion that we are one interconnected\, interdependent human family. \n<br /
 >\n<br />This new series of panel discussions will focus on how exemplary
  local non-profits are working to improve and uplift our community and ho
 w their work relates to key principles for promoting racial and social ju
 stice and empowering all people to flourish and to act as protagonists in
  uplifting our community.\n<br />\n<br />Each conversation will be held a
 t Alexandria?s Black History Museum\, 902 Wythe St.\, Alexandria\, VA.\n<
 br />\n<br />\n<br />Location: Black History Museum\, 902 Wythe St.\n<br 
 />Audience: Anyone may attend\n<br />Tags: Black History\, Black History 
 Museum\, Museums\, Old &amp\; Historic Alexandria\, Old Town
X-COA-DTSTAMP:20241004T205533Z
END:VEVENT
END:VCALENDAR
