BEGIN:VCALENDAR
CALSCALE:GREGORIAN
METHOD:PUBLISH
PRODID:-//github.com/ical-org/ical.net//NONSGML ical.net 4.0//EN
VERSION:2.0
X-WR-TIMEZONE:US/Eastern
BEGIN:VEVENT
DESCRIPTION:To verify info please see https://apps.alexandriava.gov/Calend
 ar/Detail.aspx?si=58076\n\nHybrid Eisenhower West/Landmark Van Dorn Imple
 mentation Advisory Group Meeting\n\nCommunity members may join virtually 
 via the link below.\n\nLocation: Patrick Henry Recreation Center\, 4653 T
 aney Ave.\nAudience: Anyone may attend\n\nWeb resources:\n\nProject Webpa
 ge\nhttps://www.alexandriava.gov/small-area-plans/eisenhower-west-landmar
 k-van-dorn-implementation\n
DTEND:20241122T010000Z
DTSTAMP:20250909T200340Z
DTSTART:20241122T000001Z
GEO:38.816255;-77.111492
LOCATION:Patrick Henry Recreation Center\, 4653 Taney Ave.
SEQUENCE:8
STATUS:CONFIRMED
SUMMARY:Eisenhower West/Landmark Van Dorn AG Mtg - Hybrid
TRANSP:OPAQUE
UID:714052f4-183a-4d47-81f1-83bc05700d27
URL:https://www.alexandriava.gov/small-area-plans/eisenhower-west-landmark
 -van-dorn-implementation
X-ALT-DESC;FMTTYPE=text/html:To verify info please see <a href="https://ap
 ps.alexandriava.gov/Calendar/Detail.aspx?si=58076">https://apps.alexandri
 ava.gov/Calendar/Detail.aspx?si=58076</a><br />\n<br />Hybrid Eisenhower 
 West/Landmark Van Dorn Implementation Advisory Group Meeting\n<br />\n<br
  />Community members may join virtually via the link below.\n<br />\n<br 
 />Location: Patrick Henry Recreation Center\, 4653 Taney Ave.\n<br />Audi
 ence: Anyone may attend<br>\n<a href="https://www.alexandriava.gov/small-
 area-plans/eisenhower-west-landmark-van-dorn-implementation">Project Webp
 age</a><br>\n
X-COA-DTSTAMP:20250909T200340Z
END:VEVENT
END:VCALENDAR
