BEGIN:VCALENDAR
CALSCALE:GREGORIAN
METHOD:PUBLISH
PRODID:-//github.com/ical-org/ical.net//NONSGML ical.net 4.0//EN
VERSION:2.0
X-WR-TIMEZONE:US/Eastern
BEGIN:VEVENT
CATEGORIES:Arts
CATEGORIES:Community Outreach
CATEGORIES:Exercise
CATEGORIES:Family
CATEGORIES:Nature
CATEGORIES:Parks
CATEGORIES:Recreation
CATEGORIES:Recreation Centers
CATEGORIES:Schools
CATEGORIES:Sports
CATEGORIES:Summer Fun for Kids
CATEGORIES:Teens
CATEGORIES:Toddlers
CATEGORIES:Youth
DESCRIPTION:To verify info please see https://apps.alexandriava.gov/Calend
 ar/Detail.aspx?si=58057\n\nJoin us for whimsical fun straight out of Who-
 ville! Filled with laughter\, photos\, food\, and family-friendly activit
 ies that have you feeling merry and bright. Participants will be able to 
 take pictures with the Grinch and listen to live reading of Dr. Seuss' Ho
 w the Grinch Stole Christmas.\n\nLocation: Charles Houston Recreation Cen
 ter\, 901 Wythe St.\nContact Person: Jacquay Plummer\nContact Phone: 703.
 746.5552\nContact Email: jacquay.plummer@alexandriava.gov\nFees: $5\nAudi
 ence: Anyone may attend\nTags: Arts\, Community Outreach\, Exercise\, Fam
 ily\, Nature\, Parks\, Recreation\, Recreation Centers\, Schools\, Sports
 \, Summer Fun for Kids\, Teens\, Toddlers\, Youth\n\nWeb resources:\n\nRe
 gistration Link\nhttps://vaalexandriaweb.myvscloud.com/webtrac/web/search
 .html?Action=Start&SubAction=&_csrf_token=pG0Z136S0G0J43451V4T2S415G4P6F4
 06N5W5V6L570L064F6E5G0C535Q6N6660504W58541H666C6I4X0B5S436E6F1B5Z3Y5I691H
 5S6C5R6B035Z624R661H6W3J60&primarycode=&keyword=grinchmas&category=&subty
 pe=&display=Listing&module=AR&multiselectlist_value=&arwebsearch_buttonse
 arch=yes\nDon't miss out\, register today!\n\nRPCA Website\nhttps://www.a
 lexandriava.gov/Recreation\nFind out more about the Department of Recreat
 ion\, Parks & Cultural Activities (RPCA).\n\nRPCA Social Media\nhttps://w
 ww.alexandriava.gov/Recreation#ConnectwithUs\nFollow us on Instagram\, Fa
 cebook\, & Twitter!\n
DTEND:20241207T180000Z
DTSTAMP:20241025T130312Z
DTSTART:20241207T143000Z
GEO:38.812326;-77.048213
LOCATION:Charles Houston Recreation Center\, 901 Wythe St.
SEQUENCE:14
STATUS:CONFIRMED
SUMMARY:Grinchmas
TRANSP:TRANSPARENT
UID:6661199e-3202-43fa-82b7-657dc18bff2c
URL:https://vaalexandriaweb.myvscloud.com/webtrac/web/search.html?Action=S
 tart&SubAction=&_csrf_token=pG0Z136S0G0J43451V4T2S415G4P6F406N5W5V6L570L0
 64F6E5G0C535Q6N6660504W58541H666C6I4X0B5S436E6F1B5Z3Y5I691H5S6C5R6B035Z62
 4R661H6W3J60&primarycode=&keyword=grinchmas&category=&subtype=&display=Li
 sting&module=AR&multiselectlist_value=&arwebsearch_buttonsearch=yes
X-ALT-DESC;FMTTYPE=text/html:To verify info please see <a href="https://ap
 ps.alexandriava.gov/Calendar/Detail.aspx?si=58057">https://apps.alexandri
 ava.gov/Calendar/Detail.aspx?si=58057</a><br />\n<br />Join us for whimsi
 cal fun straight out of Who-ville! Filled with laughter\, photos\, food\,
  and family-friendly activities that have you feeling merry and bright. P
 articipants will be able to take pictures with the Grinch and listen to l
 ive reading of Dr. Seuss&#39\; How the Grinch Stole Christmas.\n<br />\n<
 br />Location: Charles Houston Recreation Center\, 901 Wythe St.\n<br />C
 ontact Person: Jacquay Plummer\n<br />Contact Phone: 703.746.5552\n<br />
 Contact Email: jacquay.plummer@alexandriava.gov\n<br />Fees: $5\n<br />Au
 dience: Anyone may attend\n<br />Tags: Arts\, Community Outreach\, Exerci
 se\, Family\, Nature\, Parks\, Recreation\, Recreation Centers\, Schools\
 , Sports\, Summer Fun for Kids\, Teens\, Toddlers\, Youth<br>\n<a href="h
 ttps://vaalexandriaweb.myvscloud.com/webtrac/web/search.html?Action=Start
 &amp\;SubAction=&amp\;_csrf_token=pG0Z136S0G0J43451V4T2S415G4P6F406N5W5V6
 L570L064F6E5G0C535Q6N6660504W58541H666C6I4X0B5S436E6F1B5Z3Y5I691H5S6C5R6B
 035Z624R661H6W3J60&amp\;primarycode=&amp\;keyword=grinchmas&amp\;category
 =&amp\;subtype=&amp\;display=Listing&amp\;module=AR&amp\;multiselectlist_
 value=&amp\;arwebsearch_buttonsearch=yes">Registration Link</a><br>\nDon&
 #39\;t miss out\, register today!<br>\n<a href="https://www.alexandriava.
 gov/Recreation">RPCA Website</a><br>\nFind out more about the Department 
 of Recreation\, Parks &amp\; Cultural Activities (RPCA).<br>\n<a href="ht
 tps://www.alexandriava.gov/Recreation#ConnectwithUs">RPCA Social Media</a
 ><br>\nFollow us on Instagram\, Facebook\, &amp\; Twitter!<br>\n
X-COA-DTSTAMP:20241025T130312Z
END:VEVENT
END:VCALENDAR
