BEGIN:VCALENDAR
CALSCALE:GREGORIAN
METHOD:PUBLISH
PRODID:-//github.com/ical-org/ical.net//NONSGML ical.net 4.0//EN
VERSION:2.0
X-WR-TIMEZONE:US/Eastern
BEGIN:VEVENT
CATEGORIES:Police Department
DESCRIPTION:To verify info please see https://apps.alexandriava.gov/Calend
 ar/Detail.aspx?si=58038\n\nBring the kids in costume for an evening of tr
 ick-or-treating public safety vehicles. This event is Free for all.\n\nLo
 cation: Police Headquarters\nContact Person: Robert Pond\nContact Phone: 
 703.746.6703 \nContact Email: robert.pond@alexandriava.gov\nFees: Free fo
 r everyone\nAudience: Anyone may attend\nTags: Police Department
DTEND:20241024T230000Z
DTSTAMP:20240923T141925Z
DTSTART:20241024T210000Z
GEO:38.806875;-77.092330
LOCATION:Police Headquarters
SEQUENCE:5
STATUS:CONFIRMED
SUMMARY:Trunk or Treat
TRANSP:OPAQUE
UID:af4289ac-2f88-4dcb-8cf6-8b493817a8d4
X-ALT-DESC;FMTTYPE=text/html:To verify info please see <a href="https://ap
 ps.alexandriava.gov/Calendar/Detail.aspx?si=58038">https://apps.alexandri
 ava.gov/Calendar/Detail.aspx?si=58038</a><br />\n<br />Bring the kids in 
 costume for an evening of trick-or-treating public safety vehicles. This 
 event is Free for all.\n<br />\n<br />Location: Police Headquarters\n<br 
 />Contact Person: Robert Pond\n<br />Contact Phone: 703.746.6703 \n<br />
 Contact Email: robert.pond@alexandriava.gov\n<br />Fees: Free for everyon
 e\n<br />Audience: Anyone may attend\n<br />Tags: Police Department
X-COA-DTSTAMP:20240923T141925Z
END:VEVENT
END:VCALENDAR
