BEGIN:VCALENDAR
CALSCALE:GREGORIAN
METHOD:PUBLISH
PRODID:-//github.com/ical-org/ical.net//NONSGML ical.net 4.0//EN
VERSION:2.0
X-WR-TIMEZONE:US/Eastern
BEGIN:VEVENT
CATEGORIES:Planning Commission
CATEGORIES:Planning Meeting
DESCRIPTION:To verify info please see https://apps.alexandriava.gov/Calend
 ar/Detail.aspx?si=57915\n\nThe City of Alexandria Planning Commission wil
 l hold a retreat on 09/20/24 from 12 p.m.- 3:00 p.m. in order to discuss 
 topics of interest for land use\, development and long range initiatives.
  This meeting is open to the public. However\, public testimony or commen
 t will not be received.\n\nFor further information\, contact the Departme
 nt of Planning & Zoning at 703.746.4666.\n\nParking - Free Onsite Garage 
 Parking\nBus Access - https://www.alexandriava.gov/public-health/location
 /redella-s-del-pepper-community-resource-center\n\nFor reasonable disabil
 ity accommodation\, contact Lisa Chase at alicia.chase@alexandriava.gov o
 r 703.746.4666\, Virginia Relay 711. If you prefer communication in anoth
 er language\, free interpretation and translation services are available 
 to you. Please email LanguageAccess@alexandriava.gov or call 703.746.3960
 .\n\nLocation: Del Pepper Community Resource Center\, 4850 Mark Center Dr
 ive\nContact Person: Nancy Williams\nContact Phone: 703.746.4666\nAudienc
 e: Anyone may attend\nTags: Planning Commission\, Planning Meeting\n\nWeb
  resources:\n\nFY 2025 Planning Commission Retreat Agenda\nhttps://www.al
 exandriava.gov/sites/default/files/2024-09/pc_fy25_retreat_agenda_final_9
 .11.2024_0.pdf\n
DTEND:20240920T190000Z
DTSTAMP:20240918T164044Z
DTSTART:20240920T160000Z
LOCATION:Del Pepper Community Resource Center\, 4850 Mark Center Drive
SEQUENCE:12
STATUS:CONFIRMED
SUMMARY:FY 2025 Planning Commission Retreat
TRANSP:TRANSPARENT
UID:a999a323-f9dd-4319-930e-71406824e53d
URL:https://www.alexandriava.gov/sites/default/files/2024-09/pc_fy25_retre
 at_agenda_final_9.11.2024_0.pdf
X-ALT-DESC;FMTTYPE=text/html:To verify info please see <a href="https://ap
 ps.alexandriava.gov/Calendar/Detail.aspx?si=57915">https://apps.alexandri
 ava.gov/Calendar/Detail.aspx?si=57915</a><br />\n<br />The City of Alexan
 dria Planning Commission will hold a retreat on 09/20/24 from 12 p.m.- 3:
 00 p.m. in order to discuss topics of interest for land use\, development
  and long range initiatives. This meeting is open to the public. However\
 , public testimony or comment will not be received.\n<br />\n<br />For fu
 rther information\, contact the Department of Planning &amp\; Zoning at 7
 03.746.4666.\n<br />\n<br />Parking ? Free Onsite Garage Parking\n<br />B
 us Access ? <a href="https://www.alexandriava.gov/public-health/location/
 redella-s-del-pepper-community-resource-center">https://www.alexandriava.
 gov/public-health/location/redella-s-del-pepper-community-resource-center
 </a><br />\n<br />For reasonable disability accommodation\, contact Lisa 
 Chase at alicia.chase@alexandriava.gov or 703.746.4666\, Virginia Relay 7
 11. If you prefer communication in another language\, free interpretation
  and translation services are available to you. Please email LanguageAcce
 ss@alexandriava.gov or call 703.746.3960.\n<br />\n<br />Location: Del Pe
 pper Community Resource Center\, 4850 Mark Center Drive\n<br />Contact Pe
 rson: Nancy Williams\n<br />Contact Phone: 703.746.4666\n<br />Audience: 
 Anyone may attend\n<br />Tags: Planning Commission\, Planning Meeting<br>
 \n<a href="https://www.alexandriava.gov/sites/default/files/2024-09/pc_fy
 25_retreat_agenda_final_9.11.2024_0.pdf">FY 2025 Planning Commission Retr
 eat Agenda</a><br>\n
X-COA-DTSTAMP:20240918T164044Z
END:VEVENT
END:VCALENDAR
