BEGIN:VCALENDAR
CALSCALE:GREGORIAN
METHOD:PUBLISH
PRODID:-//github.com/ical-org/ical.net//NONSGML ical.net 4.0//EN
VERSION:2.0
X-WR-TIMEZONE:US/Eastern
BEGIN:VEVENT
CATEGORIES:Cablecast
CATEGORIES:City Council
CATEGORIES:City Council Calendar
CATEGORIES:City Council Public Comment Opportunity
CATEGORIES:City Hall
CATEGORIES:Council Meeting
CATEGORIES:Live Closed Captioning
CATEGORIES:Public Hearing
CATEGORIES:Webcast
DESCRIPTION:To verify info please see https://apps.alexandriava.gov/Calend
 ar/Detail.aspx?si=57906\n\nThe April 26\, 2025\, Public Hearing Meeting o
 f the Alexandria City Council is being held in the Council Chamber (301 K
 ing Street\, Alexandria\, Virginia\, 22314) and electronically. Members o
 f City Council and staff are participating either in-person or from a rem
 ote location through video conference call on Zoom webinar. The meeting c
 an be accessed by government channel 70\, streaming on the City's website
 \, and\nvia Zoom by the following link:\n\nWebinar ID:  951 1332 2963\nWe
 binar Passcode:  891256\nDial-in number: 301-715-8592\nRegistration:  htt
 ps://zoom.us/webinar/register/WN_4i2XBGk9Rd2CEowNKhMQjg\n\nIf you use the
  Zoom webinar application\, please be sure you have updated the applicati
 on to the latest version for the best results. If you are unable to acces
 s the Zoom webinar\, please use the Dial-In number to access the meeting.
 \n\n***PLEASE LOG-IN EARLY IF POSSIBLE***\n\nLinks:\nMeeting Agenda and L
 ive Webcast\nThe meeting will be webcast live and video and audio recordi
 ngs will be available a few days after the meeting.\n\nZoom Registration 
 Form\nIf you wish to use Zoom to watch the meeting or to address Council\
 , you must register first. Those wishing to address Council should also s
 ubmit a Speaker's Form using the link below.\n\nSpeaker's Form\nhttps://a
 pps.alexandriava.gov/SpeakerSignup/\n\nSubmission of written statements i
 s encouraged. Please sign up after the docket is created and posted and y
 ou are able to verify the meeting date on the City's website. If you have
  prepared statement or a written comments for the record you may email it
  to the City Clerk at CouncilComment@alexandriava.gov.\n\nPublic Comment 
 will be received at this meeting.\n\n*****\nIndividuals requiring transla
 tion services should contact the City Clerk and Clerk of Council at glori
 a.sitton@alexandriava.gov or at 703.746.4550. We request that you provide
  a 48-hour notice so that the proper arrangements may be made. Please spe
 cify the language for translation when you make the request.\n\nLas perso
 nas que requieran servicios de traducci?n deben comunicarse con el Secret
 ario de la Ciudad y el Secretario del Consejo en gloria.sitton@alexandria
 va.gov o al 703.746.4550. Le solicitamos que proporcione un aviso de 48 h
 oras para que se puedan hacer los arreglos necesarios. Por favor\, especi
 fique el idioma de traducci?n cuando realice la solicitud.\n\nLocation: C
 ity Hall\, Council Chamber\, 301 King St.\nContact Person: Gloria Sitton\
 nContact Email: CouncilComment@alexandriava.gov\nAudience: Anyone may att
 end\nTags: Cablecast\, City Council\, City Council Calendar\, City Counci
 l Public Comment Opportunity\, City Hall\, Council Meeting\, Live Closed 
 Captioning\, Public Hearing\, Webcast\n\nWeb resources:\n\nMeeting Agenda
 \nhttps://legistar.granicus.com/alexandria/meetings/2025/4/2566_A_City_Co
 uncil_Public_Hearing_25-04-26_Docket.pdf\n
DTEND:20250426T200000Z
DTSTAMP:20250421T202245Z
DTSTART:20250426T133000Z
GEO:38.805393;-77.043273
LOCATION:City Hall\, Council Chamber\, 301 King St.
SEQUENCE:6
STATUS:CONFIRMED
SUMMARY:City Council Public Hearing Meeting
TRANSP:TRANSPARENT
UID:f6f787fd-5cce-4878-ad7f-c9c98820b6b4
URL:https://legistar.granicus.com/alexandria/meetings/2025/4/2566_A_City_C
 ouncil_Public_Hearing_25-04-26_Docket.pdf
X-ALT-DESC;FMTTYPE=text/html:To verify info please see <a href="https://ap
 ps.alexandriava.gov/Calendar/Detail.aspx?si=57906">https://apps.alexandri
 ava.gov/Calendar/Detail.aspx?si=57906</a><br />\n<br />The April 26\, 202
 5\, Public Hearing Meeting of the Alexandria City Council is being held i
 n the Council Chamber (301 King Street\, Alexandria\, Virginia\, 22314) a
 nd electronically. Members of City Council and staff are participating ei
 ther in-person or from a remote location through video conference call on
  Zoom webinar. The meeting can be accessed by government channel 70\, str
 eaming on the City&#39\;s website\, and\n<br />via Zoom by the following 
 link:\n<br />\n<br />Webinar ID:  951 1332 2963\n<br />Webinar Passcode: 
  891256\n<br />Dial-in number: 301-715-8592\n<br />Registration:  https:/
 /zoom.us/webinar/register/WN_4i2XBGk9Rd2CEowNKhMQjg\n<br />\n<br />If you
  use the Zoom webinar application\, please be sure you have updated the a
 pplication to the latest version for the best results. If you are unable 
 to access the Zoom webinar\, please use the Dial-In number to access the 
 meeting.\n<br />\n<br />***PLEASE LOG-IN EARLY IF POSSIBLE***\n<br />\n<b
 r />Links:\n<br />Meeting Agenda and Live Webcast\n<br />The meeting will
  be webcast live and video and audio recordings will be available a few d
 ays after the meeting.\n<br />\n<br />Zoom Registration Form\n<br />If yo
 u wish to use Zoom to watch the meeting or to address Council\, you must 
 register first. Those wishing to address Council should also submit a Spe
 aker&#39\;s Form using the link below.\n<br />\n<br />Speaker&#39\;s Form
 \n<br /><a href="https://apps.alexandriava.gov/SpeakerSignup/">https://ap
 ps.alexandriava.gov/SpeakerSignup/</a><br />\n<br />Submission of written
  statements is encouraged. Please sign up after the docket is created and
  posted and you are able to verify the meeting date on the City&#39\;s we
 bsite. If you have prepared statement or a written comments for the recor
 d you may email it to the City Clerk at CouncilComment@alexandriava.gov.\
 n<br />\n<br />Public Comment will be received at this meeting.\n<br />\n
 <br />*****\n<br />Individuals requiring translation services should cont
 act the City Clerk and Clerk of Council at gloria.sitton@alexandriava.gov
  or at 703.746.4550. We request that you provide a 48-hour notice so that
  the proper arrangements may be made. Please specify the language for tra
 nslation when you make the request.\n<br />\n<br />Las personas que requi
 eran servicios de traducci&#243\;n deben comunicarse con el Secretario de
  la Ciudad y el Secretario del Consejo en gloria.sitton@alexandriava.gov 
 o al 703.746.4550. Le solicitamos que proporcione un aviso de 48 horas pa
 ra que se puedan hacer los arreglos necesarios. Por favor\, especifique e
 l idioma de traducci&#243\;n cuando realice la solicitud.\n<br />\n<br />
 Location: City Hall\, Council Chamber\, 301 King St.\n<br />Contact Perso
 n: Gloria Sitton\n<br />Contact Email: CouncilComment@alexandriava.gov\n<
 br />Audience: Anyone may attend\n<br />Tags: Cablecast\, City Council\, 
 City Council Calendar\, City Council Public Comment Opportunity\, City Ha
 ll\, Council Meeting\, Live Closed Captioning\, Public Hearing\, Webcast<
 br>\n<a href="https://legistar.granicus.com/alexandria/meetings/2025/4/25
 66_A_City_Council_Public_Hearing_25-04-26_Docket.pdf">Meeting Agenda</a><
 br>\n
X-COA-DTSTAMP:20250421T202245Z
END:VEVENT
END:VCALENDAR
