BEGIN:VCALENDAR
CALSCALE:GREGORIAN
METHOD:PUBLISH
PRODID:-//github.com/ical-org/ical.net//NONSGML ical.net 4.0//EN
VERSION:2.0
X-WR-TIMEZONE:US/Eastern
BEGIN:VEVENT
CATEGORIES:Cablecast
CATEGORIES:City Council
CATEGORIES:City Council Calendar
CATEGORIES:City Hall
CATEGORIES:Council Meeting
CATEGORIES:Live Closed Captioning
CATEGORIES:Webcast
DESCRIPTION:To verify info please see https://apps.alexandriava.gov/Calend
 ar/Detail.aspx?si=57901\n\nThe June 10\, 2025 Legislative Meeting of the 
 Alexandria City Council is being held in the Council Chamber (301 King St
 reet\, Alexandria\, Virginia\, 22314) and electronically. Members of the 
 City Council and staff are participating either in-person or from a remot
 e location through a video conference call on Zoom\nwebinar. The meeting 
 can be accessed by government channel 70\, streaming on the City's websit
 e\, and can be accessed via Zoom by the following link:\n\nWebinar ID:  9
 93 9486 8987\nWebinar Passcode:   582098\nDial-in number: 301-715-8592\nR
 egistration:  https://zoom.us/webinar/register/WN_6ZpkCXqsQkC2s_epL94W-Q\
 n\nIf you use the Zoom webinar application\, please be sure you have upda
 ted the application to the latest version for the best results. If you ar
 e unable to access the Zoom webinar\, please use the Dial-In number to ac
 cess the meeting.\n\n***PLEASE LOG-IN EARLY IF POSSIBLE***\n\nLinks:\nMee
 ting Agenda and Live Webcast\nThe meeting will be webcast live and video 
 and audio recordings will be available a few days after the meeting.\n\nZ
 oom Registration Form\nIf you wish to use Zoom to watch the meeting or to
  address Council\, you must register first.\n\nSubmission of written stat
 ements is encouraged. Please verify the meeting date on the City's websit
 e. If you have prepared statement or written comments for the record you 
 may email it to the City Clerk at CouncilComment@alexandriava.gov.\n\n***
 ****\nIndividuals requiring translation services should contact the City 
 Clerk and Clerk of Council at gloria.sitton@alexandriava.gov or at 703.74
 6.4550. We request that you provide a 48-hour notice so that the proper a
 rrangements may be made. Please specify the language for translation when
  you make the request.\n\nLas personas que requieran servicios de traducc
 i?n deben comunicarse con el Secretario de la Ciudad y el Secretario del 
 Consejo en gloria.sitton@alexandriava.gov o al 703.746.4550. Le solicitam
 os que proporcione un aviso de 48 horas para que se puedan hacer los arre
 glos necesarios. Por favor\, especifique el idioma de traducci?n cuando r
 ealice la solicitud.\n\n*******\n\nLocation: City Hall\, Council Chamber\
 , 301 King St.\nContact Person: Gloria Sitton\nContact Email: CouncilComm
 ent@alexandriava.gov\nAudience: Anyone may attend\nTags: Cablecast\, City
  Council\, City Council Calendar\, City Hall\, Council Meeting\, Live Clo
 sed Captioning\, Webcast\n\nWeb resources:\n\nMeeting Agenda\nhttps://leg
 istar.granicus.com/alexandria/meetings/2025/6/2602_A_City_Council_Legisla
 tive_Meeting_25-06-10_Docket.pdf\n
DTEND:20250611T020000Z
DTSTAMP:20250605T203032Z
DTSTART:20250610T213000Z
GEO:38.805393;-77.043273
LOCATION:City Hall\, Council Chamber\, 301 King St.
SEQUENCE:7
STATUS:CONFIRMED
SUMMARY:City Council Legislative Meeting
TRANSP:TRANSPARENT
UID:f0c9886c-aad8-4151-b809-b928016413b0
URL:https://legistar.granicus.com/alexandria/meetings/2025/6/2602_A_City_C
 ouncil_Legislative_Meeting_25-06-10_Docket.pdf
X-ALT-DESC;FMTTYPE=text/html:To verify info please see <a href="https://ap
 ps.alexandriava.gov/Calendar/Detail.aspx?si=57901">https://apps.alexandri
 ava.gov/Calendar/Detail.aspx?si=57901</a><br />\n<br />The June 10\, 2025
  Legislative Meeting of the Alexandria City Council is being held in the 
 Council Chamber (301 King Street\, Alexandria\, Virginia\, 22314) and ele
 ctronically. Members of the City Council and staff are participating eith
 er in-person or from a remote location through a video conference call on
  Zoom\n<br />webinar. The meeting can be accessed by government channel 7
 0\, streaming on the City&#39\;s website\, and can be accessed via Zoom b
 y the following link:\n<br />\n<br />Webinar ID:  993 9486 8987\n<br />We
 binar Passcode:   582098\n<br />Dial-in number: 301-715-8592\n<br />Regis
 tration:  https://zoom.us/webinar/register/WN_6ZpkCXqsQkC2s_epL94W-Q\n<br
  />\n<br />If you use the Zoom webinar application\, please be sure you h
 ave updated the application to the latest version for the best results. I
 f you are unable to access the Zoom webinar\, please use the Dial-In numb
 er to access the meeting.\n<br />\n<br />***PLEASE LOG-IN EARLY IF POSSIB
 LE***\n<br />\n<br />Links:\n<br />Meeting Agenda and Live Webcast\n<br /
 >The meeting will be webcast live and video and audio recordings will be 
 available a few days after the meeting.\n<br />\n<br />Zoom Registration 
 Form\n<br />If you wish to use Zoom to watch the meeting or to address Co
 uncil\, you must register first.\n<br />\n<br />Submission of written sta
 tements is encouraged. Please verify the meeting date on the City&#39\;s 
 website. If you have prepared statement or written comments for the recor
 d you may email it to the City Clerk at CouncilComment@alexandriava.gov.\
 n<br />\n<br />*******\n<br />Individuals requiring translation services 
 should contact the City Clerk and Clerk of Council at gloria.sitton@alexa
 ndriava.gov or at 703.746.4550. We request that you provide a 48-hour not
 ice so that the proper arrangements may be made. Please specify the langu
 age for translation when you make the request.\n<br />\n<br />Las persona
 s que requieran servicios de traducci&#243\;n deben comunicarse con el Se
 cretario de la Ciudad y el Secretario del Consejo en gloria.sitton@alexan
 driava.gov o al 703.746.4550. Le solicitamos que proporcione un aviso de 
 48 horas para que se puedan hacer los arreglos necesarios. Por favor\, es
 pecifique el idioma de traducci&#243\;n cuando realice la solicitud.\n<br
  />\n<br />*******\n<br />\n<br />Location: City Hall\, Council Chamber\,
  301 King St.\n<br />Contact Person: Gloria Sitton\n<br />Contact Email: 
 CouncilComment@alexandriava.gov\n<br />Audience: Anyone may attend\n<br /
 >Tags: Cablecast\, City Council\, City Council Calendar\, City Hall\, Cou
 ncil Meeting\, Live Closed Captioning\, Webcast<br>\n<a href="https://leg
 istar.granicus.com/alexandria/meetings/2025/6/2602_A_City_Council_Legisla
 tive_Meeting_25-06-10_Docket.pdf">Meeting Agenda</a><br>\n
X-COA-DTSTAMP:20250605T203032Z
END:VEVENT
END:VCALENDAR
