BEGIN:VCALENDAR
CALSCALE:GREGORIAN
METHOD:PUBLISH
PRODID:-//github.com/ical-org/ical.net//NONSGML ical.net 4.0//EN
VERSION:2.0
X-WR-TIMEZONE:US/Eastern
BEGIN:VEVENT
CATEGORIES:Budget
CATEGORIES:Budget2026
CATEGORIES:Cablecast
CATEGORIES:City Council
CATEGORIES:City Council Calendar
CATEGORIES:City Council Public Comment Opportunity
CATEGORIES:City Hall
CATEGORIES:Council Meeting
CATEGORIES:Live Closed Captioning
CATEGORIES:Public Hearing
CATEGORIES:Webcast
DESCRIPTION:To verify info please see https://apps.alexandriava.gov/Calend
 ar/Detail.aspx?si=57897\n\nThe Alexandria City Council will hold the FY 2
 026 Budget Tax Rate Public Hearing beginning at 5:30 p.m.\, followed by t
 he FY2026 Budget Add/Delete Public Hearing.  The City Council Regular Leg
 islative Meeting will commence at the conclusion of the public hearings. 
  \nThe April 8\, 2025\, Legislative Meeting of the Alexandria City Counci
 l is being held in the Council Chamber (301 King Street\, Alexandria\, Vi
 rginia\, 22314) and electronically. Members of City Council and staff are
  participating either in-person or from a remote location through video c
 onference call on Zoom webinar. The meeting can be accessed by government
  channel 70\, streaming on the City's website\, and via Zoom by the follo
 wing link:\n\nWebinar ID:  937 2243 9374\nWebinar Passcode:  112671\nDial
 -in number: 301-715-8592\nRegistration:  https://zoom.us/webinar/register
 /WN_mgyuVtNnQMGOMCDjruzEGQ \n\nIf you use the Zoom webinar application\, 
 please be sure you have updated the application to the latest version for
  the best results. If you are unable to access the Zoom webinar\, please 
 use the Dial-In number to access the meeting.\n\n***PLEASE LOG-IN EARLY I
 F POSSIBLE***\n\nLinks:\nMeeting Agenda and Live Webcast\nThe meeting wil
 l be webcast live and video and audio recordings will be available a few 
 days after the meeting.\n\nZoom Registration Form\nIf you wish to use Zoo
 m to watch the meeting or to address Council\, you must register first. T
 hose wishing to address Council should also submit a Speaker's Form using
  the link below.\n\nSpeaker's Form\nhttps://apps.alexandriava.gov/Speaker
 Signup/\n\nSubmission of written statements is encouraged. Please sign up
  after the docket is created and posted and you are able to verify the me
 eting date on the City's website. If you have prepared statement or a wri
 tten comments for the record you may email it to the City Clerk at Counci
 lComment@alexandriava.gov.\n\nPublic Comment will be received at this mee
 ting.\n\n*****\nIndividuals requiring translation services should contact
  the City Clerk and Clerk of Council at gloria.sitton@alexandriava.gov or
  at 703.746.4550. We request that you provide a 48-hour notice so that th
 e proper arrangements may be made. Please specify the language for transl
 ation when you make the request.\n\nLas personas que requieran servicios 
 de traducci?n deben comunicarse con el Secretario de la Ciudad y el Secre
 tario del Consejo en gloria.sitton@alexandriava.gov o al 703.746.4550. Le
  solicitamos que proporcione un aviso de 48 horas para que se puedan hace
 r los arreglos necesarios. Por favor\, especifique el idioma de traducci?
 n cuando realice la solicitud.\n\n\nLocation: City Hall\, Council Chamber
 \, 301 King St.\nContact Person: Gloria Sitton\nContact Email: CouncilCom
 ment@alexandriava.gov\nAudience: Anyone may attend\nTags: Budget\, Budget
 2026\, Cablecast\, City Council\, City Council Calendar\, City Council Pu
 blic Comment Opportunity\, City Hall\, Council Meeting\, Live Closed Capt
 ioning\, Public Hearing\, Webcast\n\nWeb resources:\n\nMeeting Agenda\nht
 tps://legistar.granicus.com/alexandria/meetings/2025/4/2552_A_City_Counci
 l_Legislative_Meeting_25-04-08_Docket.pdf\n
DTEND:20250409T023000Z
DTSTAMP:20250403T021137Z
DTSTART:20250408T213000Z
GEO:38.805393;-77.043273
LOCATION:City Hall\, Council Chamber\, 301 King St.
SEQUENCE:12
STATUS:CONFIRMED
SUMMARY:City Council Legislative Meeting
TRANSP:TRANSPARENT
UID:ed1e3c72-c191-4894-800b-56708352e219
URL:https://legistar.granicus.com/alexandria/meetings/2025/4/2552_A_City_C
 ouncil_Legislative_Meeting_25-04-08_Docket.pdf
X-ALT-DESC;FMTTYPE=text/html:To verify info please see <a href="https://ap
 ps.alexandriava.gov/Calendar/Detail.aspx?si=57897">https://apps.alexandri
 ava.gov/Calendar/Detail.aspx?si=57897</a><br />\n<br />The Alexandria Cit
 y Council will hold the FY 2026 Budget Tax Rate Public Hearing beginning 
 at 5:30 p.m.\, followed by the FY2026 Budget Add/Delete Public Hearing.  
 The City Council Regular Legislative Meeting will commence at the conclus
 ion of the public hearings.  \n<br />The April 8\, 2025\, Legislative Mee
 ting of the Alexandria City Council is being held in the Council Chamber 
 (301 King Street\, Alexandria\, Virginia\, 22314) and electronically. Mem
 bers of City Council and staff are participating either in-person or from
  a remote location through video conference call on Zoom webinar. The mee
 ting can be accessed by government channel 70\, streaming on the City&#39
 \;s website\, and via Zoom by the following link:\n<br />\n<br />Webinar 
 ID:  937 2243 9374\n<br />Webinar Passcode:  112671\n<br />Dial-in number
 : 301-715-8592\n<br />Registration:  https://zoom.us/webinar/register/WN_
 mgyuVtNnQMGOMCDjruzEGQ \n<br />\n<br />If you use the Zoom webinar applic
 ation\, please be sure you have updated the application to the latest ver
 sion for the best results. If you are unable to access the Zoom webinar\,
  please use the Dial-In number to access the meeting.\n<br />\n<br />***P
 LEASE LOG-IN EARLY IF POSSIBLE***\n<br />\n<br />Links:\n<br />Meeting Ag
 enda and Live Webcast\n<br />The meeting will be webcast live and video a
 nd audio recordings will be available a few days after the meeting.\n<br 
 />\n<br />Zoom Registration Form\n<br />If you wish to use Zoom to watch 
 the meeting or to address Council\, you must register first. Those wishin
 g to address Council should also submit a Speaker&#39\;s Form using the l
 ink below.\n<br />\n<br />Speaker&#39\;s Form\n<br /><a href="https://app
 s.alexandriava.gov/SpeakerSignup/">https://apps.alexandriava.gov/SpeakerS
 ignup/</a><br />\n<br />Submission of written statements is encouraged. P
 lease sign up after the docket is created and posted and you are able to 
 verify the meeting date on the City&#39\;s website. If you have prepared 
 statement or a written comments for the record you may email it to the Ci
 ty Clerk at CouncilComment@alexandriava.gov.\n<br />\n<br />Public Commen
 t will be received at this meeting.\n<br />\n<br />*****\n<br />Individua
 ls requiring translation services should contact the City Clerk and Clerk
  of Council at gloria.sitton@alexandriava.gov or at 703.746.4550. We requ
 est that you provide a 48-hour notice so that the proper arrangements may
  be made. Please specify the language for translation when you make the r
 equest.\n<br />\n<br />Las personas que requieran servicios de traducci&#
 243\;n deben comunicarse con el Secretario de la Ciudad y el Secretario d
 el Consejo en gloria.sitton@alexandriava.gov o al 703.746.4550. Le solici
 tamos que proporcione un aviso de 48 horas para que se puedan hacer los a
 rreglos necesarios. Por favor\, especifique el idioma de traducci&#243\;n
  cuando realice la solicitud.\n<br />\n<br />\n<br />Location: City Hall\
 , Council Chamber\, 301 King St.\n<br />Contact Person: Gloria Sitton\n<b
 r />Contact Email: CouncilComment@alexandriava.gov\n<br />Audience: Anyon
 e may attend\n<br />Tags: Budget\, Budget2026\, Cablecast\, City Council\
 , City Council Calendar\, City Council Public Comment Opportunity\, City 
 Hall\, Council Meeting\, Live Closed Captioning\, Public Hearing\, Webcas
 t<br>\n<a href="https://legistar.granicus.com/alexandria/meetings/2025/4/
 2552_A_City_Council_Legislative_Meeting_25-04-08_Docket.pdf">Meeting Agen
 da</a><br>\n
X-COA-DTSTAMP:20250403T021137Z
END:VEVENT
END:VCALENDAR
