BEGIN:VCALENDAR
CALSCALE:GREGORIAN
METHOD:PUBLISH
PRODID:-//github.com/ical-org/ical.net//NONSGML ical.net 4.0//EN
VERSION:2.0
X-WR-TIMEZONE:US/Eastern
BEGIN:VEVENT
CATEGORIES:City Council
CATEGORIES:Health
DESCRIPTION:To verify info please see https://apps.alexandriava.gov/Calend
 ar/Detail.aspx?si=57846\n\nNote: This meeting is open to the public and h
 eld in-person with a virtual attendance option.\n\nWebinar ID: 947 4057 3
 815\nWebinar Passcode:     538298\nDial-in number: 301-715-8592\n\nLocati
 on: City Hall Room 1900\, 301 King St\nContact Person: Dana Wedeles\nCont
 act Phone: 703.746.3862\nContact Email: dana.wedeles@alexandriava.gov\nAu
 dience: Anyone may attend\nTags: City Council\, Health
DTEND:20250307T143000Z
DTSTAMP:20250226T155404Z
DTSTART:20250307T133000Z
LOCATION:City Hall Room 1900\, 301 King St
SEQUENCE:8
STATUS:CONFIRMED
SUMMARY:Health and Safety Coordinating Committee (Virtual)
TRANSP:OPAQUE
UID:ab88a1d8-825e-4f08-aa16-903d226bd55b
X-ALT-DESC;FMTTYPE=text/html:To verify info please see <a href="https://ap
 ps.alexandriava.gov/Calendar/Detail.aspx?si=57846">https://apps.alexandri
 ava.gov/Calendar/Detail.aspx?si=57846</a><br />\n<br />Note: This meeting
  is open to the public and held in-person with a virtual attendance optio
 n.\n<br />\n<br />Webinar ID: 947 4057 3815\n<br />Webinar Passcode:     
 538298\n<br />Dial-in number: 301-715-8592\n<br />\n<br />Location: City 
 Hall Room 1900\, 301 King St\n<br />Contact Person: Dana Wedeles\n<br />C
 ontact Phone: 703.746.3862\n<br />Contact Email: dana.wedeles@alexandriav
 a.gov\n<br />Audience: Anyone may attend\n<br />Tags: City Council\, Heal
 th
X-COA-DTSTAMP:20250226T155404Z
END:VEVENT
END:VCALENDAR
