BEGIN:VCALENDAR
CALSCALE:GREGORIAN
METHOD:PUBLISH
PRODID:-//github.com/ical-org/ical.net//NONSGML ical.net 4.0//EN
VERSION:2.0
X-WR-TIMEZONE:US/Eastern
BEGIN:VEVENT
CATEGORIES:ALX275
CATEGORIES:Archaeology Museum
CATEGORIES:Family
CATEGORIES:Museums
DESCRIPTION:To verify info please see https://apps.alexandriava.gov/Calend
 ar/Detail.aspx?si=57733\n\nJoin us for the display of a unique pop-up exh
 ibit! Step inside the temporary Buried Ships of Robinson Landing windowfr
 ont exhibit\,  located at the corner of the Strand and Pioneer Mill Way\,
  for a special chance to see scale models of three 18th century vessel re
 mnants excavated in 2018 on the same block. Talk with an archaeologist an
 d learn how these ships were used to create new land along the waterfront
 . \n\nThrough an exciting partnership with the Robinson Landing Property 
 Owners Association\, Alexandria Archaeology has the unique opportunity to
  shine a light on this site's history. Archaeologists use these digital a
 nd physical models to compare ship construction and to answer questions a
 bout the age and use of the vessels. \n"We are excited to present the 'Bu
 ried Ships of Robinson Landing' exhibit to the community\," said Eleanor 
 Breen\, City Archaeologist. \n \nFor more information about the exhibit\,
  visit www.alexandriava.gov/archaeology/archaeology-on-the-waterfront\, o
 r call Alexandria Archaeology at 703.746.4399.\n\nLocation: Robinson Term
 inal South\nAudience: Anyone may attend\nTags: ALX275\, Archaeology Museu
 m\, Family\, Museums
DTEND:20240726T230000Z
DTSTAMP:20240719T193612Z
DTSTART:20240726T203000Z
GEO:38.801424;-77.039802
LOCATION:Robinson Terminal South
SEQUENCE:6
STATUS:CONFIRMED
SUMMARY:Buried Ships of Robinson Landing Exhibit
TRANSP:OPAQUE
UID:66352b3d-5959-4bc9-82ef-6142f730d8ce
X-ALT-DESC;FMTTYPE=text/html:To verify info please see <a href="https://ap
 ps.alexandriava.gov/Calendar/Detail.aspx?si=57733">https://apps.alexandri
 ava.gov/Calendar/Detail.aspx?si=57733</a><br />\n<br />Join us for the di
 splay of a unique pop-up exhibit! Step inside the temporary Buried Ships 
 of Robinson Landing windowfront exhibit\,  located at the corner of the S
 trand and Pioneer Mill Way\, for a special chance to see scale models of 
 three 18th century vessel remnants excavated in 2018 on the same block. T
 alk with an archaeologist and learn how these ships were used to create n
 ew land along the waterfront. \n<br />\n<br />Through an exciting partner
 ship with the Robinson Landing Property Owners Association\, Alexandria A
 rchaeology has the unique opportunity to shine a light on this site?s his
 tory. Archaeologists use these digital and physical models to compare shi
 p construction and to answer questions about the age and use of the vesse
 ls. \n<br />&quot\;We are excited to present the &#39\;Buried Ships of Ro
 binson Landing&#39\; exhibit to the community\,&quot\; said Eleanor Breen
 \, City Archaeologist. \n<br /> \n<br />For more information about the ex
 hibit\, visit www.alexandriava.gov/archaeology/archaeology-on-the-waterfr
 ont\, or call Alexandria Archaeology at 703.746.4399.\n<br />\n<br />Loca
 tion: Robinson Terminal South\n<br />Audience: Anyone may attend\n<br />T
 ags: ALX275\, Archaeology Museum\, Family\, Museums
X-COA-DTSTAMP:20240719T193612Z
END:VEVENT
END:VCALENDAR
