BEGIN:VCALENDAR
CALSCALE:GREGORIAN
METHOD:PUBLISH
PRODID:-//github.com/ical-org/ical.net//NONSGML ical.net 4.0//EN
VERSION:2.0
X-WR-TIMEZONE:US/Eastern
BEGIN:VEVENT
CATEGORIES:ALX275
CATEGORIES:City Council
CATEGORIES:Family
CATEGORIES:Fire Department
CATEGORIES:Friendship Firehouse Museum
CATEGORIES:Museums
CATEGORIES:Police Department
DESCRIPTION:To verify info please see https://apps.alexandriava.gov/Calend
 ar/Detail.aspx?si=57732\n\nJoin us on the 100 block of South Alfred Stree
 t from 9 a.m. to 2 p.m. and celebrate Friendship Fire Company's 250th yea
 r! Learn about fire safety today\, and yesterday\, and see Alexandria Fir
 e Department equipment up close. There will be booths by the Alexandria P
 olice Department and Sheriff's Office\, music performances\, face paintin
 g\, displays by community organizations\, local vendors\, and food and be
 verage sales. Join in water play and please-touch artifact activities. Ch
 ildren will receive free toy Friendship firefighting helmets. This family
  event is presented by the Friendship Veterans Fire Engine Association an
 d the Office of Historic Alexandria.\n\nLocation: Friendship Firehouse Mu
 seum\, 107 S. Alfred St.\nAudience: Anyone may attend\nTags: ALX275\, Cit
 y Council\, Family\, Fire Department\, Friendship Firehouse Museum\, Muse
 ums\, Police Department
DTEND:20240803T180000Z
DTSTAMP:20240729T165333Z
DTSTART:20240803T130000Z
GEO:38.804940;-77.049408
LOCATION:Friendship Firehouse Museum\, 107 S. Alfred St.
SEQUENCE:6
STATUS:CONFIRMED
SUMMARY:Friendship Firehouse Festival
TRANSP:OPAQUE
UID:873ce6fe-4271-4574-ad5b-7d6d768fcbf4
X-ALT-DESC;FMTTYPE=text/html:To verify info please see <a href="https://ap
 ps.alexandriava.gov/Calendar/Detail.aspx?si=57732">https://apps.alexandri
 ava.gov/Calendar/Detail.aspx?si=57732</a><br />\n<br />Join us on the 100
  block of South Alfred Street from 9 a.m. to 2 p.m. and celebrate Friends
 hip Fire Company?s 250th year! Learn about fire safety today\, and yester
 day\, and see Alexandria Fire Department equipment up close. There will b
 e booths by the Alexandria Police Department and Sheriff?s Office\, music
  performances\, face painting\, displays by community organizations\, loc
 al vendors\, and food and beverage sales. Join in water play and please-t
 ouch artifact activities. Children will receive free toy Friendship firef
 ighting helmets. This family event is presented by the Friendship Veteran
 s Fire Engine Association and the Office of Historic Alexandria.\n<br />\
 n<br />Location: Friendship Firehouse Museum\, 107 S. Alfred St.\n<br />A
 udience: Anyone may attend\n<br />Tags: ALX275\, City Council\, Family\, 
 Fire Department\, Friendship Firehouse Museum\, Museums\, Police Departme
 nt
X-COA-DTSTAMP:20240729T165333Z
END:VEVENT
END:VCALENDAR
