BEGIN:VCALENDAR
CALSCALE:GREGORIAN
METHOD:PUBLISH
PRODID:-//github.com/ical-org/ical.net//NONSGML ical.net 4.0//EN
VERSION:2.0
X-WR-TIMEZONE:US/Eastern
BEGIN:VEVENT
CATEGORIES:Family
CATEGORIES:Gadsby's Tavern
CATEGORIES:Museums
CATEGORIES:Old & Historic Alexandria
DESCRIPTION:To verify info please see https://apps.alexandriava.gov/Calend
 ar/Detail.aspx?si=57657\n\nEvery Sunday\, June 16 through Labor Day weeke
 nd\, guests can meet our Junior Docents\, young historians grade 4 and up
 \, as they share the stories of the tavern. The afternoon includes histor
 ic chocolate making demonstrations. Past visitors have described the stud
 ent presentations as an "exciting treat" that brings a "fun element" to t
 he tour. Don't miss out!\n\nLocation: Gadsby's Tavern Museum\, 134 N. Roy
 al St.\nFees: Fees included in regular admission.\nAudience: Anyone may a
 ttend\nTags: Family\, Gadsby's Tavern\, Museums\, Old & Historic Alexandr
 ia
DTEND:20240630T210000Z
DTSTAMP:20240622T023607Z
DTSTART:20240630T180000Z
GEO:38.805577;-77.043493
LOCATION:Gadsby's Tavern Museum\, 134 N. Royal St.
SEQUENCE:5
STATUS:CONFIRMED
SUMMARY:Family Day with Young Historians
TRANSP:OPAQUE
UID:b5c8e54d-0b21-44fb-addd-6f86e3a88293
X-ALT-DESC;FMTTYPE=text/html:To verify info please see <a href="https://ap
 ps.alexandriava.gov/Calendar/Detail.aspx?si=57657">https://apps.alexandri
 ava.gov/Calendar/Detail.aspx?si=57657</a><br />\n<br />Every Sunday\, Jun
 e 16 through Labor Day weekend\, guests can meet our Junior Docents\, you
 ng historians grade 4 and up\, as they share the stories of the tavern. T
 he afternoon includes historic chocolate making demonstrations. Past visi
 tors have described the student presentations as an &quot\;exciting treat
 &quot\; that brings a &quot\;fun element&quot\; to the tour. Don&#39\;t m
 iss out!\n<br />\n<br />Location: Gadsby&#39\;s Tavern Museum\, 134 N. Ro
 yal St.\n<br />Fees: Fees included in regular admission.\n<br />Audience:
  Anyone may attend\n<br />Tags: Family\, Gadsby&#39\;s Tavern\, Museums\,
  Old &amp\; Historic Alexandria
X-COA-DTSTAMP:20240622T023607Z
END:VEVENT
END:VCALENDAR
