BEGIN:VCALENDAR
CALSCALE:GREGORIAN
METHOD:PUBLISH
PRODID:-//github.com/ical-org/ical.net//NONSGML ical.net 4.0//EN
VERSION:2.0
X-WR-TIMEZONE:US/Eastern
BEGIN:VEVENT
CATEGORIES:Health
CATEGORIES:Museums
CATEGORIES:Old & Historic Alexandria
CATEGORIES:Old Town
CATEGORIES:Women
DESCRIPTION:To verify info please see https://apps.alexandriava.gov/Calend
 ar/Detail.aspx?si=57651\n\nMidwives did more than deliver babies! Explore
  the role\, knowledge\, and challenges of Midwives through the lens of th
 e Stabler-Leadbeater Apothecary Museum and its collection of historic med
 icines and archives. Content note: this tour will cover the complex histo
 ry around contraception\, abortion\, and miscarriage. Recommended for age
 s 18 and older. Admission ticket purchase is strongly recommended as spac
 e is limited.\n\nTour is 11:00am-12:00pm. Please arrive between 10:45-11:
 00am as the museum is not open to the public until 1:00pm and the doors w
 ill be locked when the tour begins at 11:00am.\n\nLocation: Stabler-Leadb
 eater Apothecary Museum\, 105-107 S. Fairfax St.\nFees: $15 per person\; 
 $12 OHA Member\nAudience: Anyone may attend\nTags: Health\, Museums\, Old
  & Historic Alexandria\, Old Town\, Women\n\nWeb resources:\n\nPurchase t
 ickets here.\nhttps://shop.alexandriava.gov/Events.aspx\n
DTEND:20240630T160000Z
DTSTAMP:20240622T013040Z
DTSTART:20240630T150000Z
GEO:38.804291;-77.042693
LOCATION:Stabler-Leadbeater Apothecary Museum\, 105-107 S. Fairfax St.
SEQUENCE:5
STATUS:CONFIRMED
SUMMARY:Specialty Tour: Midwifery
TRANSP:OPAQUE
UID:e1745e61-1a5f-43e8-b99d-753b9146e10d
URL:https://shop.alexandriava.gov/Events.aspx
X-ALT-DESC;FMTTYPE=text/html:To verify info please see <a href="https://ap
 ps.alexandriava.gov/Calendar/Detail.aspx?si=57651">https://apps.alexandri
 ava.gov/Calendar/Detail.aspx?si=57651</a><br />\n<br />Midwives did more 
 than deliver babies! Explore the role\, knowledge\, and challenges of Mid
 wives through the lens of the Stabler-Leadbeater Apothecary Museum and it
 s collection of historic medicines and archives. Content note: this tour 
 will cover the complex history around contraception\, abortion\, and misc
 arriage. Recommended for ages 18 and older. Admission ticket purchase is 
 strongly recommended as space is limited.\n<br />\n<br />Tour is 11:00am-
 12:00pm. Please arrive between 10:45-11:00am as the museum is not open to
  the public until 1:00pm and the doors will be locked when the tour begin
 s at 11:00am.\n<br />\n<br />Location: Stabler-Leadbeater Apothecary Muse
 um\, 105-107 S. Fairfax St.\n<br />Fees: $15 per person\; $12 OHA Member\
 n<br />Audience: Anyone may attend\n<br />Tags: Health\, Museums\, Old &a
 mp\; Historic Alexandria\, Old Town\, Women<br>\n<a href="https://shop.al
 exandriava.gov/Events.aspx">Purchase tickets here.</a><br>\n
X-COA-DTSTAMP:20240622T013040Z
END:VEVENT
END:VCALENDAR
