BEGIN:VCALENDAR
CALSCALE:GREGORIAN
METHOD:PUBLISH
PRODID:-//github.com/ical-org/ical.net//NONSGML ical.net 4.0//EN
VERSION:2.0
X-WR-TIMEZONE:US/Eastern
BEGIN:VEVENT
CATEGORIES:Black History
CATEGORIES:Family
CATEGORIES:Holiday Event
CATEGORIES:Museums
DESCRIPTION:To verify info please see https://apps.alexandriava.gov/Calend
 ar/Detail.aspx?si=57558\n\nJoin the Office of Historic Alexandria's Divis
 ion of African American History for storytelling and music that celebrate
  Juneteenth and African American heritage. The Washington Revels Jubilee 
 Voices will present a lively\, interactive concert featuring traditional 
 music\, dance\, and spoken word that celebrates Juneteenth\, local storie
 s\, history\, and  the enduring legacy of the African American quest for 
 freedom and equality. This presentation is co-sponsored by Washington Rev
 els and the Office of Historic Alexandria. \n\nBegins at 1:30 pm with Sto
 rytelling / Concert at 2 pm - Free\n\nLocation: Market Square\, 301 King 
 St.\nAudience: Anyone may attend\nTags: Black History\, Family\, Holiday 
 Event\, Museums
DTEND:20240619T193000Z
DTSTAMP:20240523T163823Z
DTSTART:20240619T173000Z
GEO:38.804935;-77.042978
LOCATION:Market Square\, 301 King St.
SEQUENCE:6
STATUS:CONFIRMED
SUMMARY:National Juneteenth Holiday at Market Square
TRANSP:OPAQUE
UID:0f687cdd-1392-479f-bcb8-e5c6f7005310
X-ALT-DESC;FMTTYPE=text/html:To verify info please see <a href="https://ap
 ps.alexandriava.gov/Calendar/Detail.aspx?si=57558">https://apps.alexandri
 ava.gov/Calendar/Detail.aspx?si=57558</a><br />\n<br />Join the Office of
  Historic Alexandria?s Division of African American History for storytell
 ing and music that celebrate Juneteenth and African American heritage. Th
 e Washington Revels Jubilee Voices will present a lively\, interactive co
 ncert featuring traditional music\, dance\, and spoken word that celebrat
 es Juneteenth\, local stories\, history\, and  the enduring legacy of the
  African American quest for freedom and equality. This presentation is co
 -sponsored by Washington Revels and the Office of Historic Alexandria. \n
 <br />\n<br />Begins at 1:30 pm with Storytelling / Concert at 2 pm ? Fre
 e\n<br />\n<br />Location: Market Square\, 301 King St.\n<br />Audience: 
 Anyone may attend\n<br />Tags: Black History\, Family\, Holiday Event\, M
 useums
X-COA-DTSTAMP:20240523T163823Z
END:VEVENT
END:VCALENDAR
