BEGIN:VCALENDAR
CALSCALE:GREGORIAN
METHOD:PUBLISH
PRODID:-//github.com/ical-org/ical.net//NONSGML ical.net 4.0//EN
VERSION:2.0
X-WR-TIMEZONE:US/Eastern
BEGIN:VEVENT
CATEGORIES:Arts
CATEGORIES:Lyceum
CATEGORIES:Museums
CATEGORIES:Old & Historic Alexandria
CATEGORIES:Old Town
DESCRIPTION:To verify info please see https://apps.alexandriava.gov/Calend
 ar/Detail.aspx?si=57477\n\nFriday\, May 17: Traditional Concert Series\n\
 nAlexandria History Museum at The Lyceum\; 201 South Washington Street\n7
 :30-9:30 p.m.\n$25 / $12 ages 12-17 at ticketstripe.com/JeffWarner \n\nFe
 aturing Jeff Warner\, who is among the foremost performers / interpreters
  of traditional music. His songs from the lumber camps\, fishing villages
  and mountaintops of America connect 21st-century audiences with the ever
 yday lives - and artistry - of 19th-century Americans. \n\nFree snacks\; 
 cash bar for beer\, wine\, and a specialty cocktail.\n\n\nLocation: Lyceu
 m\nFees: $25/$12 ages 12-17 \nAudience: Anyone may attend\nTags: Arts\, L
 yceum\, Museums\, Old & Historic Alexandria\, Old Town\n\nWeb resources:\
 n\npurchase tickets here\nhttps://ticketstripe.com/JeffWarner\n
DTEND:20240518T013000Z
DTSTAMP:20240517T131225Z
DTSTART:20240517T233000Z
LOCATION:Lyceum
SEQUENCE:6
STATUS:CANCELLED
SUMMARY:CANCELLED: Traditional Concert Series
TRANSP:TRANSPARENT
UID:c923ed63-90d0-4098-91f7-11518b5ae84a
URL:https://ticketstripe.com/JeffWarner
X-ALT-DESC;FMTTYPE=text/html:To verify info please see <a href="https://ap
 ps.alexandriava.gov/Calendar/Detail.aspx?si=57477">https://apps.alexandri
 ava.gov/Calendar/Detail.aspx?si=57477</a><br />\n<br />Friday\, May 17: T
 raditional Concert Series\n<br />\n<br />Alexandria History Museum at The
  Lyceum\; 201 South Washington Street\n<br />7:30-9:30 p.m.\n<br />$25 / 
 $12 ages 12-17 at ticketstripe.com/JeffWarner \n<br />\n<br />Featuring J
 eff Warner\, who is among the foremost performers / interpreters of tradi
 tional music. His songs from the lumber camps\, fishing villages and moun
 taintops of America connect 21st-century audiences with the everyday live
 s ? and artistry ? of 19th-century Americans. \n<br />\n<br />Free snacks
 \; cash bar for beer\, wine\, and a specialty cocktail.\n<br />\n<br />\n
 <br />Location: Lyceum\n<br />Fees: $25/$12 ages 12-17 \n<br />Audience: 
 Anyone may attend\n<br />Tags: Arts\, Lyceum\, Museums\, Old &amp\; Histo
 ric Alexandria\, Old Town<br>\n<a href="https://ticketstripe.com/JeffWarn
 er">purchase tickets here</a><br>\n
X-COA-DTSTAMP:20240517T131225Z
END:VEVENT
END:VCALENDAR
