BEGIN:VCALENDAR
CALSCALE:GREGORIAN
METHOD:PUBLISH
PRODID:-//github.com/ical-org/ical.net//NONSGML ical.net 4.0//EN
VERSION:2.0
X-WR-TIMEZONE:US/Eastern
BEGIN:VEVENT
CATEGORIES:Boards & Commissions
CATEGORIES:Cablecast
CATEGORIES:Commission Meeting
CATEGORIES:Planning Boards and Commissions
CATEGORIES:Planning Commission
CATEGORIES:Planning Meeting
CATEGORIES:Public Hearing
CATEGORIES:Webcast
CATEGORIES:Zoning
DESCRIPTION:To verify info please see https://apps.alexandriava.gov/Calend
 ar/Detail.aspx?si=57443\n\nRegular monthly meeting of the Planning Commis
 sion. *Hearing end times are approximate.\n\nLocation: City Hall\, Counci
 l Chamber\, 301 King St.\nContact Person: Lanning Blaser\nContact Phone: 
 703.746.4666\nContact Email: Lanning.Blaser@alexandriava.gov\nAudience: A
 nyone may attend\nTags: Boards & Commissions\, Cablecast\, Commission Mee
 ting\, Planning Boards and Commissions\, Planning Commission\, Planning M
 eeting\, Public Hearing\, Webcast\, Zoning
DTEND:20250402T030000Z
DTSTAMP:20250228T165249Z
DTSTART:20250401T230000Z
GEO:38.805393;-77.043273
LOCATION:City Hall\, Council Chamber\, 301 King St.
SEQUENCE:8
STATUS:CONFIRMED
SUMMARY:Planning Commission Regular Monthly Meeting
TRANSP:OPAQUE
UID:856f1cc3-222d-4b1c-94b3-3a7cee3b5677
X-ALT-DESC;FMTTYPE=text/html:To verify info please see <a href="https://ap
 ps.alexandriava.gov/Calendar/Detail.aspx?si=57443">https://apps.alexandri
 ava.gov/Calendar/Detail.aspx?si=57443</a><br />\n<br />Regular monthly me
 eting of the Planning Commission. *Hearing end times are approximate.\n<b
 r />\n<br />Location: City Hall\, Council Chamber\, 301 King St.\n<br />C
 ontact Person: Lanning Blaser\n<br />Contact Phone: 703.746.4666\n<br />C
 ontact Email: Lanning.Blaser@alexandriava.gov\n<br />Audience: Anyone may
  attend\n<br />Tags: Boards &amp\; Commissions\, Cablecast\, Commission M
 eeting\, Planning Boards and Commissions\, Planning Commission\, Planning
  Meeting\, Public Hearing\, Webcast\, Zoning
X-COA-DTSTAMP:20250228T165249Z
END:VEVENT
END:VCALENDAR
