BEGIN:VCALENDAR
CALSCALE:GREGORIAN
METHOD:PUBLISH
PRODID:-//github.com/ical-org/ical.net//NONSGML ical.net 4.0//EN
VERSION:2.0
X-WR-TIMEZONE:US/Eastern
BEGIN:VEVENT
CATEGORIES:DCHS
DESCRIPTION:To verify info please see https://apps.alexandriava.gov/Calend
 ar/Detail.aspx?si=57217\n\nAdult Mental Health First Aid is an eight-hour
  training (two hours completed\nindependently with an on-line learning sy
 stem) and certification on skills to help persons who are developing a me
 ntal health problem or experiencing a mental health crisis. The training 
 demonstrates the initial help given to a person showing signs of mental i
 llness or a mental health crisis.\nThe course teaches risk factors\, warn
 ing signs and symptoms of mental health and\nsubstance use disorders\, th
 e effects of illnesses\, an overview of treatments and a five-step action
  plan for helping.\n\nLocation: 4850 Mark Center Drive\, 4850 Mark Center
  Drive\nAudience: Anyone may attend\nTags: DCHS\n\nWeb resources:\n\nRegi
 stration: https://www.research.net/r/alexandriaVA-August2024AdultMentalHe
 althFirstAidTraining2DayInPerson\nhttps://www.research.net/r/alexandriaVA
 -August2024AdultMentalHealthFirstAidTraining2DayInPerson\n
DTEND:20240822T203000Z
DTSTAMP:20240221T161813Z
DTSTART:20240822T170000Z
LOCATION:4850 Mark Center Drive\, 4850 Mark Center Drive
SEQUENCE:5
STATUS:CONFIRMED
SUMMARY:Mental Health First Aid Training (2-Day In-Person)
TRANSP:OPAQUE
UID:ac97c2b2-eb96-4905-97d7-b030eaf6efd2
URL:https://www.research.net/r/alexandriaVA-August2024AdultMentalHealthFir
 stAidTraining2DayInPerson
X-ALT-DESC;FMTTYPE=text/html:To verify info please see <a href="https://ap
 ps.alexandriava.gov/Calendar/Detail.aspx?si=57217">https://apps.alexandri
 ava.gov/Calendar/Detail.aspx?si=57217</a><br />\n<br />Adult Mental Healt
 h First Aid is an eight-hour training (two hours completed\n<br />indepen
 dently with an on-line learning system) and certification on skills to he
 lp persons who are developing a mental health problem or experiencing a m
 ental health crisis. The training demonstrates the initial help given to 
 a person showing signs of mental illness or a mental health crisis.\n<br 
 />The course teaches risk factors\, warning signs and symptoms of mental 
 health and\n<br />substance use disorders\, the effects of illnesses\, an
  overview of treatments and a five-step action plan for helping.\n<br />\
 n<br />Location: 4850 Mark Center Drive\, 4850 Mark Center Drive\n<br />A
 udience: Anyone may attend\n<br />Tags: DCHS<br>\n<a href="https://www.re
 search.net/r/alexandriaVA-August2024AdultMentalHealthFirstAidTraining2Day
 InPerson">Registration: https://www.research.net/r/alexandriaVA-August202
 4AdultMentalHealthFirstAidTraining2DayInPerson</a><br>\n
X-COA-DTSTAMP:20240221T161813Z
END:VEVENT
END:VCALENDAR
