BEGIN:VCALENDAR
CALSCALE:GREGORIAN
METHOD:PUBLISH
PRODID:-//github.com/ical-org/ical.net//NONSGML ical.net 4.0//EN
VERSION:2.0
X-WR-TIMEZONE:US/Eastern
BEGIN:VEVENT
CATEGORIES:Black History
CATEGORIES:Black History Museum
CATEGORIES:Equity
CATEGORIES:Family
CATEGORIES:Museums
DESCRIPTION:To verify info please see https://apps.alexandriava.gov/Calend
 ar/Detail.aspx?si=57151\n\nJoin Oumie for an Afro-centric story time at t
 he Alexandria Black History Museum on the second Saturday of each month. 
 This fun and educational story time is geared to children ages 5-8 years 
 old. This free story time is held in the Museum's Parker-Gray Gallery 10-
 10:30 a.m.\n\nLocation: Black History Museum\, 902 Wythe St.\nAudience: A
 nyone may attend\nTags: Black History\, Black History Museum\, Equity\, F
 amily\, Museums
DTEND:20240210T153000Z
DTSTAMP:20240205T190757Z
DTSTART:20240210T150000Z
GEO:38.812083;-77.048042
LOCATION:Black History Museum\, 902 Wythe St.
SEQUENCE:7
STATUS:CONFIRMED
SUMMARY:Story Time for Little Historians
TRANSP:TRANSPARENT
UID:0de95d7a-46e5-444e-90fe-7aa6b6473244
X-ALT-DESC;FMTTYPE=text/html:To verify info please see <a href="https://ap
 ps.alexandriava.gov/Calendar/Detail.aspx?si=57151">https://apps.alexandri
 ava.gov/Calendar/Detail.aspx?si=57151</a><br />\n<br />Join Oumie for an 
 Afro-centric story time at the Alexandria Black History Museum on the sec
 ond Saturday of each month. This fun and educational story time is geared
  to children ages 5-8 years old. This free story time is held in the Muse
 um&#39\;s Parker-Gray Gallery 10-10:30 a.m.\n<br />\n<br />Location: Blac
 k History Museum\, 902 Wythe St.\n<br />Audience: Anyone may attend\n<br 
 />Tags: Black History\, Black History Museum\, Equity\, Family\, Museums
X-COA-DTSTAMP:20240205T190757Z
END:VEVENT
END:VCALENDAR
