BEGIN:VCALENDAR
CALSCALE:GREGORIAN
METHOD:PUBLISH
PRODID:-//github.com/ical-org/ical.net//NONSGML ical.net 4.0//EN
VERSION:2.0
X-WR-TIMEZONE:US/Eastern
BEGIN:VEVENT
CATEGORIES:DCHS
DESCRIPTION:To verify info please see https://apps.alexandriava.gov/Calend
 ar/Detail.aspx?si=57127\n\nThe City of Alexandria is offering free tax re
 turn preparation to eligible residents Wednesdays\, 6-8 p.m.\, and Saturd
 ays\, 9 a.m. to noon\, from February 7 through April 17. Expert volunteer
 s will help taxpayers ensure all applicable credits/deductions are applie
 d for\, including tax credits. For more information\, call 202.830.1480 (
 English) or 202.869.2999\nhttps://www.alexandriava.gov/economic-support/f
 ree-tax-preparation\n\nLocation: 4850 Mark Center Drive\, 4850 Mark Cente
 r Drive\nAudience: Anyone may attend\nTags: DCHS
DTEND:20240418T000001Z
DTSTAMP:20240124T175301Z
DTSTART:20240417T220000Z
LOCATION:4850 Mark Center Drive\, 4850 Mark Center Drive
SEQUENCE:5
STATUS:CONFIRMED
SUMMARY:Free Income Tax Preparation Assistance
TRANSP:OPAQUE
UID:fd9f2a67-f429-4652-866d-521bdae5a0dd
X-ALT-DESC;FMTTYPE=text/html:To verify info please see <a href="https://ap
 ps.alexandriava.gov/Calendar/Detail.aspx?si=57127">https://apps.alexandri
 ava.gov/Calendar/Detail.aspx?si=57127</a><br />\n<br />The City of Alexan
 dria is offering free tax return preparation to eligible residents Wednes
 days\, 6-8 p.m.\, and Saturdays\, 9 a.m. to noon\, from February 7 throug
 h April 17. Expert volunteers will help taxpayers ensure all applicable c
 redits/deductions are applied for\, including tax credits. For more infor
 mation\, call 202.830.1480 (English) or 202.869.2999\n<br /><a href="http
 s://www.alexandriava.gov/economic-support/free-tax-preparation">https://w
 ww.alexandriava.gov/economic-support/free-tax-preparation</a><br />\n<br 
 />Location: 4850 Mark Center Drive\, 4850 Mark Center Drive\n<br />Audien
 ce: Anyone may attend\n<br />Tags: DCHS
X-COA-DTSTAMP:20240124T175301Z
END:VEVENT
END:VCALENDAR
