BEGIN:VCALENDAR
CALSCALE:GREGORIAN
METHOD:PUBLISH
PRODID:-//github.com/ical-org/ical.net//NONSGML ical.net 4.0//EN
VERSION:2.0
X-WR-TIMEZONE:US/Eastern
BEGIN:VEVENT
CATEGORIES:Adult
CATEGORIES:Family
CATEGORIES:Parents
CATEGORIES:Recreation
CATEGORIES:Recreation Centers
CATEGORIES:Teens
CATEGORIES:Youth
DESCRIPTION:To verify info please see https://apps.alexandriava.gov/Calend
 ar/Detail.aspx?si=56863\n\nThursday\, July 4 - Independence Day\n\nWarwic
 k Pool: 10 a.m. - 4:45 p.m.\nOld Town Pool: 10 a.m. - 4:45 p.m.\nMemorial
  Pool: 10 a.m. - 2:45 p.m.\nAll Other Facilities: Closed\n\nLocation:  No
  Location Specified\nFees: Aquatic Fees: Please refer to Alexandriava.gov
 /Aquatics to view our daily admission fees and season pool passes.\nAudie
 nce: Anyone may attend\nTags: Adult\, Family\, Parents\, Recreation\, Rec
 reation Centers\, Teens\, Youth\n\nWeb resources:\n\nRPCA Program\, Activ
 ity\, & Service Cancellations\nhttps://www.alexandriava.gov/rpca/rpca-pro
 gram-activity-service-cancellations\nVerify status of programs\, services
 \, and facility operations during inclement weather and closures.\n\nRecr
 eation Website\nhttps://www.alexandriava.gov/Recreation\nFind out more ab
 out the Department of Recreation\, Parks & Cultural Activities (RPCA).\n\
 nRPCA Social Media\nhttps://www.alexandriava.gov/Recreation#ConnectwithUs
 \nFollow us on Instagram\, Facebook\, & Twitter!\n
DTEND:20240705T000001Z
DTSTAMP:20240104T135306Z
DTSTART:20240704T100000Z
SEQUENCE:8
STATUS:CANCELLED
SUMMARY:RPCA Closed: Independence Day
TRANSP:TRANSPARENT
UID:c556e9eb-4461-42f9-9c54-e315a61e6312
URL:https://www.alexandriava.gov/rpca/rpca-program-activity-service-cancel
 lations
X-ALT-DESC;FMTTYPE=text/html:To verify info please see <a href="https://ap
 ps.alexandriava.gov/Calendar/Detail.aspx?si=56863">https://apps.alexandri
 ava.gov/Calendar/Detail.aspx?si=56863</a><br />\n<br />Thursday\, July 4 
 - Independence Day\n<br />\n<br />Warwick Pool: 10 a.m. ? 4:45 p.m.\n<br 
 />Old Town Pool: 10 a.m. ? 4:45 p.m.\n<br />Memorial Pool: 10 a.m. ? 2:45
  p.m.\n<br />All Other Facilities: Closed\n<br />\n<br />Location:  No Lo
 cation Specified\n<br />Fees: Aquatic Fees: Please refer to Alexandriava.
 gov/Aquatics to view our daily admission fees and season pool passes.\n<b
 r />Audience: Anyone may attend\n<br />Tags: Adult\, Family\, Parents\, R
 ecreation\, Recreation Centers\, Teens\, Youth<br>\n<a href="https://www.
 alexandriava.gov/rpca/rpca-program-activity-service-cancellations">RPCA P
 rogram\, Activity\, &amp\; Service Cancellations</a><br>\nVerify status o
 f programs\, services\, and facility operations during inclement weather 
 and closures.<br>\n<a href="https://www.alexandriava.gov/Recreation">Recr
 eation Website</a><br>\nFind out more about the Department of Recreation\
 , Parks &amp\; Cultural Activities (RPCA).<br>\n<a href="https://www.alex
 andriava.gov/Recreation#ConnectwithUs">RPCA Social Media</a><br>\nFollow 
 us on Instagram\, Facebook\, &amp\; Twitter!<br>\n
X-COA-DTSTAMP:20240104T135306Z
END:VEVENT
END:VCALENDAR
