BEGIN:VCALENDAR
CALSCALE:GREGORIAN
METHOD:PUBLISH
PRODID:-//github.com/ical-org/ical.net//NONSGML ical.net 4.0//EN
VERSION:2.0
X-WR-TIMEZONE:US/Eastern
BEGIN:VEVENT
CATEGORIES:Health
DESCRIPTION:To verify info please see https://apps.alexandriava.gov/Calend
 ar/Detail.aspx?si=56825\n\nJoin the Alexandria Health Department and loca
 l partners for this event\, part of a community-wide program for World AI
 DS Day. The event will include an exhibit of visual pieces commemorating 
 World AIDS Day\, light refreshments\, and free\, confidential HIV testing
 . City of Alexandria Mayor Justin Wilson will read a proclamation at 4 p.
 m.\n\nLocation: Redella S. "Del" Pepper Community Resource Center\, 4850 
 Mark Center Drive\nContact Person: Nechelle Terrell\nContact Phone: 703.7
 46.4934\nContact Email: nechelle.terrell@vdh.virginia.gov\nAudience: Anyo
 ne may attend\nTags: Health
DTEND:20231201T220000Z
DTSTAMP:20231130T140259Z
DTSTART:20231201T150000Z
LOCATION:Redella S. "Del" Pepper Community Resource Center\, 4850 Mark Cen
 ter Drive
SEQUENCE:9
STATUS:CONFIRMED
SUMMARY:World AIDS Day Exhibit and Commemoration
TRANSP:OPAQUE
UID:4eb8a227-101f-42fa-9689-534367ef1962
X-ALT-DESC;FMTTYPE=text/html:To verify info please see <a href="https://ap
 ps.alexandriava.gov/Calendar/Detail.aspx?si=56825">https://apps.alexandri
 ava.gov/Calendar/Detail.aspx?si=56825</a><br />\n<br />Join the Alexandri
 a Health Department and local partners for this event\, part of a communi
 ty-wide program for World AIDS Day. The event will include an exhibit of 
 visual pieces commemorating World AIDS Day\, light refreshments\, and fre
 e\, confidential HIV testing. City of Alexandria Mayor Justin Wilson will
  read a proclamation at 4 p.m.\n<br />\n<br />Location: Redella S. &quot\
 ;Del&quot\; Pepper Community Resource Center\, 4850 Mark Center Drive\n<b
 r />Contact Person: Nechelle Terrell\n<br />Contact Phone: 703.746.4934\n
 <br />Contact Email: nechelle.terrell@vdh.virginia.gov\n<br />Audience: A
 nyone may attend\n<br />Tags: Health
X-COA-DTSTAMP:20231130T140259Z
END:VEVENT
END:VCALENDAR
