BEGIN:VCALENDAR
CALSCALE:GREGORIAN
METHOD:PUBLISH
PRODID:-//github.com/ical-org/ical.net//NONSGML ical.net 4.0//EN
VERSION:2.0
X-WR-TIMEZONE:US/Eastern
BEGIN:VEVENT
CATEGORIES:T&ES Events
CATEGORIES:Transportation
DESCRIPTION:To verify info please see https://apps.alexandriava.gov/Calend
 ar/Detail.aspx?si=56809\n\nThe City will host an in-person open house mee
 ting to provide updates and answer questions about the West Taylor Run Pa
 rkway intersection project. During the meeting\, staff will present updat
 ed options for the service road and right-turn lane improvements that are
  part of the West Taylor Run Parkway intersection project. Following the 
 presentation\, attendees will be able to ask questions and make comments 
 about each option. Staff will also share information about the Cambridge 
 Road and Duke Street intersection and the service road between Cambridge 
 Road and West Taylor Run Parkway options at this meeting. \n\nLocation: M
 acArthur Elementary School School\nContact Person: Daniel Scolese \nConta
 ct Email: daniel.scolese@alexandriava.gov\nAudience: Anyone may attend\nT
 ags: T&ES Events\, Transportation
DTEND:20231215T013000Z
DTSTAMP:20231208T165619Z
DTSTART:20231215T000001Z
LOCATION:MacArthur Elementary School School
SEQUENCE:8
STATUS:CONFIRMED
SUMMARY:Duke Street Service Roads Open House
TRANSP:OPAQUE
UID:a441160c-283c-4f68-8c68-03a3fbac4539
X-ALT-DESC;FMTTYPE=text/html:To verify info please see <a href="https://ap
 ps.alexandriava.gov/Calendar/Detail.aspx?si=56809">https://apps.alexandri
 ava.gov/Calendar/Detail.aspx?si=56809</a><br />\n<br />The City will host
  an in-person open house meeting to provide updates and answer questions 
 about the West Taylor Run Parkway intersection project. During the meetin
 g\, staff will present updated options for the service road and right-tur
 n lane improvements that are part of the West Taylor Run Parkway intersec
 tion project. Following the presentation\, attendees will be able to ask 
 questions and make comments about each option. Staff will also share info
 rmation about the Cambridge Road and Duke Street intersection and the ser
 vice road between Cambridge Road and West Taylor Run Parkway options at t
 his meeting. \n<br />\n<br />Location: MacArthur Elementary School School
 \n<br />Contact Person: Daniel Scolese \n<br />Contact Email: daniel.scol
 ese@alexandriava.gov\n<br />Audience: Anyone may attend\n<br />Tags: T&am
 p\;ES Events\, Transportation
X-COA-DTSTAMP:20231208T165619Z
END:VEVENT
END:VCALENDAR
