BEGIN:VCALENDAR
CALSCALE:GREGORIAN
METHOD:PUBLISH
PRODID:-//github.com/ical-org/ical.net//NONSGML ical.net 4.0//EN
VERSION:2.0
X-WR-TIMEZONE:US/Eastern
BEGIN:VEVENT
CATEGORIES:Family
CATEGORIES:Holiday Event
CATEGORIES:Lyceum
CATEGORIES:Museums
CATEGORIES:Old Town
DESCRIPTION:To verify info please see https://apps.alexandriava.gov/Calend
 ar/Detail.aspx?si=56766\n\nJoin us at the Alexandria History Museum at Th
 e Lyceum for a free holiday magic show\, performed by professional magici
 ans who are members of Ring 50\, the DC-area chapter of the International
  Brotherhood of Magicians. Magic is a part of The Lyceum's history and 19
 th-century magicians like Signor Blitz and Wyman the Wizard performed at 
 there in the 1840s. This modern family-friendly show will be geared towar
 d children ages 5 to 12\, but all are welcome. Attendees are encouraged t
 o bring new\, unwrapped toys to donate to the Fund for Alexandria's Child
  Holiday Sharing Program\, which benefits kids who might otherwise go wit
 hout holiday gifts this year. For more information\, email info@ibmring50
 .org. The show is free\, but space is limited so please reserve a space h
 ere!\n\nLocation: Lyceum\nFees: Free\, but registration is required\nAudi
 ence: Anyone may attend\nTags: Family\, Holiday Event\, Lyceum\, Museums\
 , Old Town\n\nWeb resources:\n\nRegister here\nhttps://shop.alexandriava.
 gov/EventPurchase.aspx?dateselected=12/6/2023\n
DTEND:20231207T020000Z
DTSTAMP:20231128T175828Z
DTSTART:20231207T000001Z
LOCATION:Lyceum
SEQUENCE:8
STATUS:CONFIRMED
SUMMARY:Family Holiday Magic Show
TRANSP:TRANSPARENT
UID:5f7cd1a0-db4a-4297-ad4b-5b254b97dd38
URL:https://shop.alexandriava.gov/EventPurchase.aspx?dateselected=12/6/2023
X-ALT-DESC;FMTTYPE=text/html:To verify info please see <a href="https://ap
 ps.alexandriava.gov/Calendar/Detail.aspx?si=56766">https://apps.alexandri
 ava.gov/Calendar/Detail.aspx?si=56766</a><br />\n<br />Join us at the Ale
 xandria History Museum at The Lyceum for a free holiday magic show\, perf
 ormed by professional magicians who are members of Ring 50\, the DC-area 
 chapter of the International Brotherhood of Magicians. Magic is a part of
  The Lyceum&#39\;s history and 19th-century magicians like Signor Blitz a
 nd Wyman the Wizard performed at there in the 1840s. This modern family-f
 riendly show will be geared toward children ages 5 to 12\, but all are we
 lcome. Attendees are encouraged to bring new\, unwrapped toys to donate t
 o the Fund for Alexandria&#39\;s Child Holiday Sharing Program\, which be
 nefits kids who might otherwise go without holiday gifts this year. For m
 ore information\, email info@ibmring50.org. The show is free\, but space 
 is limited so please reserve a space here!\n<br />\n<br />Location: Lyceu
 m\n<br />Fees: Free\, but registration is required\n<br />Audience: Anyon
 e may attend\n<br />Tags: Family\, Holiday Event\, Lyceum\, Museums\, Old
  Town<br>\n<a href="https://shop.alexandriava.gov/EventPurchase.aspx?date
 selected=12/6/2023">Register here</a><br>\n
X-COA-DTSTAMP:20231128T175828Z
END:VEVENT
END:VCALENDAR
