BEGIN:VCALENDAR
CALSCALE:GREGORIAN
METHOD:PUBLISH
PRODID:-//github.com/ical-org/ical.net//NONSGML ical.net 4.0//EN
VERSION:2.0
X-WR-TIMEZONE:US/Eastern
BEGIN:VEVENT
CATEGORIES:Apothecary Museum
CATEGORIES:Museums
CATEGORIES:Old Town
DESCRIPTION:To verify info please see https://apps.alexandriava.gov/Calend
 ar/Detail.aspx?si=54651\n\nCome explore the sinister side of medicine on 
 the Apothecary Museum's Poisons Tour. This one-hour tour explores several
  different types of poisons\, their historic uses at the Apothecary\, and
  what we know today. Recommended for ages 18 and older. \n\n\nLocation: S
 tabler-Leadbeater Apothecary Museum\, 105-107 S. Fairfax St.\nFees: $15\n
 Audience: Anyone may attend\nTags: Apothecary Museum\, Museums\, Old Town
 \n\nWeb resources:\n\nBuy Tickets Here\nhttps://alexandriava.gov/shop\n
DTEND:20231028T233000Z
DTSTAMP:20231006T180812Z
DTSTART:20231028T213000Z
GEO:38.804291;-77.042693
LOCATION:Stabler-Leadbeater Apothecary Museum\, 105-107 S. Fairfax St.
SEQUENCE:5
STATUS:CONFIRMED
SUMMARY:Specialty Tour: Poisons at the Apothecary Museum
TRANSP:TRANSPARENT
UID:b38f3227-d2f8-448e-95a7-1033ab07d86f
URL:https://alexandriava.gov/shop
X-ALT-DESC;FMTTYPE=text/html:To verify info please see <a href="https://ap
 ps.alexandriava.gov/Calendar/Detail.aspx?si=54651">https://apps.alexandri
 ava.gov/Calendar/Detail.aspx?si=54651</a><br />\n<br />Come explore the s
 inister side of medicine on the Apothecary Museum?s Poisons Tour. This on
 e-hour tour explores several different types of poisons\, their historic 
 uses at the Apothecary\, and what we know today. Recommended for ages 18 
 and older. \n<br />\n<br />\n<br />Location: Stabler-Leadbeater Apothecar
 y Museum\, 105-107 S. Fairfax St.\n<br />Fees: $15\n<br />Audience: Anyon
 e may attend\n<br />Tags: Apothecary Museum\, Museums\, Old Town<br>\n<a 
 href="https://alexandriava.gov/shop">Buy Tickets Here</a><br>\n
X-COA-DTSTAMP:20231006T180812Z
END:VEVENT
END:VCALENDAR
