BEGIN:VCALENDAR
CALSCALE:GREGORIAN
METHOD:PUBLISH
PRODID:-//github.com/ical-org/ical.net//NONSGML ical.net 4.0//EN
VERSION:2.0
X-WR-TIMEZONE:US/Eastern
BEGIN:VEVENT
CATEGORIES:Family
CATEGORIES:Halloween
CATEGORIES:Recreation
CATEGORIES:Recreation Centers
CATEGORIES:Toddlers
CATEGORIES:Youth
DESCRIPTION:To verify info please see https://apps.alexandriava.gov/Calend
 ar/Detail.aspx?si=54617\n\nOn Wednesday\, October 25 at 11 a.m.\, local a
 uthor Nina Tisara will read us her story "Little Pines Halloween" which i
 s about "a little pine tree plans a Halloween party for the neighboring t
 rees in his patch of woods and discovers there's more to the planning tha
 n he first thought." This event is free and open to the public. It would 
 be perfect for ages 3-8 and their parents. For more information\, visit a
 lexandriava.gov/naturecenter or call 703.749.5559.\n\nLocation: Jerome "B
 uddie" Ford Nature Center\, 5750 Sanger Avenue\nContact Phone: 703.746.55
 59\nAudience: Anyone may attend\nTags: Family\, Halloween\, Recreation\, 
 Recreation Centers\, Toddlers\, Youth
DTEND:20231025T160000Z
DTSTAMP:20230928T183316Z
DTSTART:20231025T150000Z
GEO:38.827623;-77.131512
LOCATION:Jerome "Buddie" Ford Nature Center\, 5750 Sanger Avenue
SEQUENCE:6
STATUS:CONFIRMED
SUMMARY:Halloween Storytime
TRANSP:OPAQUE
UID:7a8e2f07-4abc-4880-8bf5-1f7d91072aa5
X-ALT-DESC;FMTTYPE=text/html:To verify info please see <a href="https://ap
 ps.alexandriava.gov/Calendar/Detail.aspx?si=54617">https://apps.alexandri
 ava.gov/Calendar/Detail.aspx?si=54617</a><br />\n<br />On Wednesday\, Oct
 ober 25 at 11 a.m.\, local author Nina Tisara will read us her story &quo
 t\;Little Pines Halloween&quot\; which is about &quot\;a little pine tree
  plans a Halloween party for the neighboring trees in his patch of woods 
 and discovers there&#39\;s more to the planning than he first thought.&qu
 ot\; This event is free and open to the public. It would be perfect for a
 ges 3-8 and their parents. For more information\, visit alexandriava.gov/
 naturecenter or call 703.749.5559.\n<br />\n<br />Location: Jerome &quot\
 ;Buddie&quot\; Ford Nature Center\, 5750 Sanger Avenue\n<br />Contact Pho
 ne: 703.746.5559\n<br />Audience: Anyone may attend\n<br />Tags: Family\,
  Halloween\, Recreation\, Recreation Centers\, Toddlers\, Youth
X-COA-DTSTAMP:20230928T183316Z
END:VEVENT
END:VCALENDAR
