BEGIN:VCALENDAR
CALSCALE:GREGORIAN
METHOD:PUBLISH
PRODID:-//github.com/ical-org/ical.net//NONSGML ical.net 4.0//EN
VERSION:2.0
X-WR-TIMEZONE:US/Eastern
BEGIN:VEVENT
CATEGORIES:Adult
CATEGORIES:Aquatics
CATEGORIES:Family
CATEGORIES:Parents
CATEGORIES:Pools
CATEGORIES:Recreation
CATEGORIES:Recreation Centers
CATEGORIES:Teens
CATEGORIES:Torpedo Factory Art Center
CATEGORIES:Youth
DESCRIPTION:To verify info please see https://apps.alexandriava.gov/Calend
 ar/Detail.aspx?si=54525\n\nMonday\, October 9 - Indigenous Peoples' Day (
 2023)\n\nCharles Houston and Patrick Henry: 9 a.m. - 3 p.m.\nAll Other Fa
 cilities: Closed\n\nPlease visit the links below for more information.\n\
 nLocation:  No Location Specified\nAudience: Anyone may attend\nTags: Adu
 lt\, Aquatics\, Family\, Parents\, Pools\, Recreation\, Recreation Center
 s\, Teens\, Torpedo Factory Art Center\, Youth\n\nWeb resources:\n\nRPCA 
 Program\, Activity\, & Service Cancellations\nhttps://www.alexandriava.go
 v/rpca/rpca-program-activity-service-cancellations\nVerify status of prog
 rams\, services\, and facility operations during inclement weather and cl
 osures.\n\nRecreation Website\nhttps://www.alexandriava.gov/Recreation\nF
 ind out more about the Department of Recreation\, Parks & Cultural Activi
 ties (RPCA).\n\nRPCA Social Media\nhttps://www.alexandriava.gov/Recreatio
 n#ConnectwithUs\nFollow us on Instagram\, Facebook\, & Twitter!\n
DTEND:20231010T010000Z
DTSTAMP:20231006T123553Z
DTSTART:20231009T100000Z
SEQUENCE:8
STATUS:CANCELLED
SUMMARY:RPCA Closed: Indigenous Peoples' Day
TRANSP:TRANSPARENT
UID:21d7fd2c-452d-40ad-b675-4534fc1fdf79
URL:https://www.alexandriava.gov/rpca/rpca-program-activity-service-cancel
 lations
X-ALT-DESC;FMTTYPE=text/html:To verify info please see <a href="https://ap
 ps.alexandriava.gov/Calendar/Detail.aspx?si=54525">https://apps.alexandri
 ava.gov/Calendar/Detail.aspx?si=54525</a><br />\n<br />Monday\, October 9
  - Indigenous Peoples&#39\; Day (2023)\n<br />\n<br />Charles Houston and
  Patrick Henry: 9 a.m. - 3 p.m.\n<br />All Other Facilities: Closed\n<br 
 />\n<br />Please visit the links below for more information.\n<br />\n<br
  />Location:  No Location Specified\n<br />Audience: Anyone may attend\n<
 br />Tags: Adult\, Aquatics\, Family\, Parents\, Pools\, Recreation\, Rec
 reation Centers\, Teens\, Torpedo Factory Art Center\, Youth<br>\n<a href
 ="https://www.alexandriava.gov/rpca/rpca-program-activity-service-cancell
 ations">RPCA Program\, Activity\, &amp\; Service Cancellations</a><br>\nV
 erify status of programs\, services\, and facility operations during incl
 ement weather and closures.<br>\n<a href="https://www.alexandriava.gov/Re
 creation">Recreation Website</a><br>\nFind out more about the Department 
 of Recreation\, Parks &amp\; Cultural Activities (RPCA).<br>\n<a href="ht
 tps://www.alexandriava.gov/Recreation#ConnectwithUs">RPCA Social Media</a
 ><br>\nFollow us on Instagram\, Facebook\, &amp\; Twitter!<br>\n
X-COA-DTSTAMP:20231006T123553Z
END:VEVENT
END:VCALENDAR
