BEGIN:VCALENDAR
CALSCALE:GREGORIAN
METHOD:PUBLISH
PRODID:-//github.com/ical-org/ical.net//NONSGML ical.net 4.0//EN
VERSION:2.0
X-WR-TIMEZONE:US/Eastern
BEGIN:VEVENT
CATEGORIES:Community Meeting
CATEGORIES:Community Outreach
CATEGORIES:Construction
CATEGORIES:DPI
CATEGORIES:Four Mile Run
CATEGORIES:Parks
DESCRIPTION:To verify info please see https://apps.alexandriava.gov/Calend
 ar/Detail.aspx?si=53504\n\nThe City of Alexandria is hosting a community 
 open house to share information on the upcoming replacement of the Four M
 ile Park Trail bridge that connects Commonwealth Avenue to the main park 
 and is located behind Frank Mann Field and Leonard "Chick" Armstrong Recr
 eation Center. Construction is scheduled to begin in September 2023 and f
 inish by the end of July 2024. \n\nThe open house will be held at Leonard
  "Chick" Armstrong Recreation Center (25 W. Reed Ave.) on September 20\, 
 2023\, from 7 p.m. to 8 p.m. \n\nLocation: Leonard "Chick" Armstrong Rec 
 Center\, 25 W. Reed Ave.\nContact Person: Ayoub Hassen\nContact Phone: 70
 3.746.4635\nContact Email: ayoub.hassen@alexandriava.gov\nAudience: Anyon
 e may attend\nTags: Community Meeting\, Community Outreach\, Construction
  \, DPI\, Four Mile Run\, Parks\n\nWeb resources:\n\nFour Mile Run Trail 
 Bridge Project\nhttps://www.alexandriava.gov/capital-projects/project/fou
 r-mile-run-trail-bridge-project\n
DTEND:20230921T000001Z
DTSTAMP:20230908T215535Z
DTSTART:20230920T230000Z
LOCATION:Leonard "Chick" Armstrong Rec Center\, 25 W. Reed Ave.
SEQUENCE:5
STATUS:CONFIRMED
SUMMARY:Four Mile Park Trail Bridge Project Open House
TRANSP:OPAQUE
UID:e61439f9-ee6c-46ff-89cb-c977129097a4
URL:https://www.alexandriava.gov/capital-projects/project/four-mile-run-tr
 ail-bridge-project
X-ALT-DESC;FMTTYPE=text/html:To verify info please see <a href="https://ap
 ps.alexandriava.gov/Calendar/Detail.aspx?si=53504">https://apps.alexandri
 ava.gov/Calendar/Detail.aspx?si=53504</a><br />\n<br />The City of Alexan
 dria is hosting a community open house to share information on the upcomi
 ng replacement of the Four Mile Park Trail bridge that connects Commonwea
 lth Avenue to the main park and is located behind Frank Mann Field and Le
 onard ?Chick? Armstrong Recreation Center. Construction is scheduled to b
 egin in September 2023 and finish by the end of July 2024. \n<br />\n<br 
 />The open house will be held at Leonard ?Chick? Armstrong Recreation Cen
 ter (25 W. Reed Ave.) on September 20\, 2023\, from 7 p.m. to 8 p.m. \n<b
 r />\n<br />Location: Leonard &quot\;Chick&quot\; Armstrong Rec Center\, 
 25 W. Reed Ave.\n<br />Contact Person: Ayoub Hassen\n<br />Contact Phone:
  703.746.4635\n<br />Contact Email: ayoub.hassen@alexandriava.gov\n<br />
 Audience: Anyone may attend\n<br />Tags: Community Meeting\, Community Ou
 treach\, Construction \, DPI\, Four Mile Run\, Parks<br>\n<a href="https:
 //www.alexandriava.gov/capital-projects/project/four-mile-run-trail-bridg
 e-project">Four Mile Run Trail Bridge Project</a><br>\n
X-COA-DTSTAMP:20230908T215535Z
END:VEVENT
END:VCALENDAR
