BEGIN:VCALENDAR
CALSCALE:GREGORIAN
METHOD:PUBLISH
PRODID:-//github.com/ical-org/ical.net//NONSGML ical.net 4.0//EN
VERSION:2.0
X-WR-TIMEZONE:US/Eastern
BEGIN:VEVENT
CATEGORIES:Boards & Commissions
CATEGORIES:Parks
CATEGORIES:Recreation
CATEGORIES:Recreation Centers
CATEGORIES:Youth
DESCRIPTION:To verify info please see https://apps.alexandriava.gov/Calend
 ar/Detail.aspx?si=53503\n\nThe Youth Sports Advisory Committee is an advi
 sory group to the Park and Recreation Commission.\n\n\nLocation: Lee Cent
 er\, 1108 Jefferson St.\nContact Person: Tamika Coleman\nContact Phone: 7
 03.746.5402\nContact Email: tamika.coleman@alexandriava.gov\nAudience: An
 yone may attend\nTags: Boards & Commissions\, Parks\, Recreation\, Recrea
 tion Centers\, Youth
DTEND:20231017T003000Z
DTSTAMP:20230908T204950Z
DTSTART:20231016T230000Z
GEO:38.797510;-77.053621
LOCATION:Lee Center\, 1108 Jefferson St.
SEQUENCE:5
STATUS:CONFIRMED
SUMMARY:Youth Sports Advisory Committee
TRANSP:TRANSPARENT
UID:fff77324-64da-4786-a005-1b5af42e939e
X-ALT-DESC;FMTTYPE=text/html:To verify info please see <a href="https://ap
 ps.alexandriava.gov/Calendar/Detail.aspx?si=53503">https://apps.alexandri
 ava.gov/Calendar/Detail.aspx?si=53503</a><br />\n<br />The Youth Sports A
 dvisory Committee is an advisory group to the Park and Recreation Commiss
 ion.\n<br />\n<br />\n<br />Location: Lee Center\, 1108 Jefferson St.\n<b
 r />Contact Person: Tamika Coleman\n<br />Contact Phone: 703.746.5402\n<b
 r />Contact Email: tamika.coleman@alexandriava.gov\n<br />Audience: Anyon
 e may attend\n<br />Tags: Boards &amp\; Commissions\, Parks\, Recreation\
 , Recreation Centers\, Youth
X-COA-DTSTAMP:20230908T204950Z
END:VEVENT
END:VCALENDAR
